Back to Multiple platform build/check report for BioC 3.12
ABCDEFGHIJKLMNOPQRSTUVW[X]YZ

Multiple platform build/check report for BioC 3.12

Results for XVector

This page was generated on 2020-10-24 10:56:14 -0400 (Sat, 24 Oct 2020).

Package 1966/1974HostnameOS / ArchINSTALLBUILDCHECKBUILD BIN
XVector 0.29.3
Hervé Pagès
Snapshot Date: 2020-10-23 14:40:36 -0400 (Fri, 23 Oct 2020)
URL: https://git.bioconductor.org/packages/XVector
Branch: master
Last Commit: ec4c8db
Last Changed Date: 2020-10-07 12:44:34 -0400 (Wed, 07 Oct 2020)
malbec1 Linux (Ubuntu 18.04.4 LTS) / x86_64  OK  OK  WARNINGS UNNEEDED, same version exists in internal repository
nebbiolo1 Linux (Ubuntu 20.04.1 LTS) / x86_64  OK  OK  WARNINGS 
tokay1 Windows Server 2012 R2 Standard / x64  OK  OK  WARNINGS  NA 
riesling1 Windows Server 2019 Standard / x64  OK  OK  WARNINGS  OK 
merida1 macOS 10.14.6 Mojave / x86_64  OK  OK  WARNINGS  OK UNNEEDED, same version exists in internal repository