Back to Multiple platform build/check report for BioC 3.12
AB[C]DEFGHIJKLMNOPQRSTUVWXYZ

INSTALL report for calm on tokay1

This page was generated on 2020-08-06 12:10:02 -0400 (Thu, 06 Aug 2020).

TO THE DEVELOPERS/MAINTAINERS OF THE calm PACKAGE: Please make sure to use the following settings in order to reproduce any error or warning you see on this page.
Package 215/1882HostnameOS / ArchINSTALLBUILDCHECKBUILD BIN
calm 1.3.0
Kun Liang
Snapshot Date: 2020-08-05 14:50:59 -0400 (Wed, 05 Aug 2020)
URL: https://git.bioconductor.org/packages/calm
Branch: master
Last Commit: 5527b1a
Last Changed Date: 2020-04-27 15:29:47 -0400 (Mon, 27 Apr 2020)
malbec1 Linux (Ubuntu 18.04.4 LTS) / x86_64  OK  OK  OK UNNEEDED, same version exists in internal repository
tokay1 Windows Server 2012 R2 Standard / x64 [ OK ] OK  OK  OK UNNEEDED, same version exists in internal repository
merida1 macOS 10.14.6 Mojave / x86_64  OK  OK  OK  OK UNNEEDED, same version exists in internal repository

Summary

Package: calm
Version: 1.3.0
Command: C:\cygwin\bin\curl.exe -O https://malbec1.bioconductor.org/BBS/3.12/bioc/src/contrib/calm_1.3.0.tar.gz && rm -rf calm.buildbin-libdir && mkdir calm.buildbin-libdir && C:\Users\biocbuild\bbs-3.12-bioc\R\bin\R.exe CMD INSTALL --merge-multiarch --build --library=calm.buildbin-libdir calm_1.3.0.tar.gz && C:\Users\biocbuild\bbs-3.12-bioc\R\bin\R.exe CMD INSTALL calm_1.3.0.zip && rm calm_1.3.0.tar.gz calm_1.3.0.zip
StartedAt: 2020-08-05 16:52:41 -0400 (Wed, 05 Aug 2020)
EndedAt: 2020-08-05 16:53:25 -0400 (Wed, 05 Aug 2020)
EllapsedTime: 43.6 seconds
RetCode: 0
Status:  OK  

Command output

##############################################################################
##############################################################################
###
### Running command:
###
###   C:\cygwin\bin\curl.exe -O https://malbec1.bioconductor.org/BBS/3.12/bioc/src/contrib/calm_1.3.0.tar.gz && rm -rf calm.buildbin-libdir && mkdir calm.buildbin-libdir && C:\Users\biocbuild\bbs-3.12-bioc\R\bin\R.exe CMD INSTALL --merge-multiarch --build --library=calm.buildbin-libdir calm_1.3.0.tar.gz && C:\Users\biocbuild\bbs-3.12-bioc\R\bin\R.exe CMD INSTALL calm_1.3.0.zip && rm calm_1.3.0.tar.gz calm_1.3.0.zip
###
##############################################################################
##############################################################################


  % Total    % Received % Xferd  Average Speed   Time    Time     Time  Current
                                 Dload  Upload   Total   Spent    Left  Speed

  0     0    0     0    0     0      0      0 --:--:-- --:--:-- --:--:--     0
100  373k  100  373k    0     0  10.9M      0 --:--:-- --:--:-- --:--:-- 12.1M

install for i386

* installing *source* package 'calm' ...
** using staged installation
** R
** data
** byte-compile and prepare package for lazy loading
** help
*** installing help indices
  converting help for package 'calm'
    finding HTML links ... done
    CLfdr                                   html  
    EstFDR                                  html  
    EstNullProp_RB                          html  
    calm-package                            html  
    pso                                     html  
** building package indices
** installing vignettes
** testing if installed package can be loaded from temporary location
** testing if installed package can be loaded from final location
** testing if installed package keeps a record of temporary installation path

install for x64

* installing *source* package 'calm' ...
** testing if installed package can be loaded
* MD5 sums
packaged installation of 'calm' as calm_1.3.0.zip
* DONE (calm)
* installing to library 'C:/Users/biocbuild/bbs-3.12-bioc/R/library'
package 'calm' successfully unpacked and MD5 sums checked