Back to Multiple platform build/check report for BioC 3.12
AB[C]DEFGHIJKLMNOPQRSTUVWXYZ

BUILD BIN report for ChIPseeker on tokay1

This page was generated on 2020-10-24 11:01:23 -0400 (Sat, 24 Oct 2020).

TO THE DEVELOPERS/MAINTAINERS OF THE ChIPseeker PACKAGE: Please make sure to use the following settings in order to reproduce any error or warning you see on this page.
Package 288/1974HostnameOS / ArchINSTALLBUILDCHECKBUILD BIN
ChIPseeker 1.25.0
Guangchuang Yu
Snapshot Date: 2020-10-23 14:40:36 -0400 (Fri, 23 Oct 2020)
URL: https://git.bioconductor.org/packages/ChIPseeker
Branch: master
Last Commit: 3e79cb7
Last Changed Date: 2020-10-07 11:57:14 -0400 (Wed, 07 Oct 2020)
malbec1 Linux (Ubuntu 18.04.4 LTS) / x86_64  OK  OK  OK UNNEEDED, same version exists in internal repository
nebbiolo1 Linux (Ubuntu 20.04.1 LTS) / x86_64  OK  OK  OK 
tokay1 Windows Server 2012 R2 Standard / x64  OK  OK  WARNINGS [ OK ]UNNEEDED, same version exists in internal repository
riesling1 Windows Server 2019 Standard / x64  OK  OK  WARNINGS  OK 
merida1 macOS 10.14.6 Mojave / x86_64  OK  OK  OK  OK UNNEEDED, same version exists in internal repository

Summary

Package: ChIPseeker
Version: 1.25.0
Command: rm -rf ChIPseeker.buildbin-libdir && mkdir ChIPseeker.buildbin-libdir && C:\Users\biocbuild\bbs-3.12-bioc\R\bin\R.exe CMD INSTALL --merge-multiarch --build --library=ChIPseeker.buildbin-libdir ChIPseeker_1.25.0.tar.gz
StartedAt: 2020-10-24 09:02:29 -0400 (Sat, 24 Oct 2020)
EndedAt: 2020-10-24 09:04:12 -0400 (Sat, 24 Oct 2020)
EllapsedTime: 103.0 seconds
RetCode: 0
Status:  OK  
PackageFile: ChIPseeker_1.25.0.zip
PackageFileSize: 4.47 MiB

Command output

##############################################################################
##############################################################################
###
### Running command:
###
###   rm -rf ChIPseeker.buildbin-libdir && mkdir ChIPseeker.buildbin-libdir && C:\Users\biocbuild\bbs-3.12-bioc\R\bin\R.exe CMD INSTALL --merge-multiarch --build --library=ChIPseeker.buildbin-libdir ChIPseeker_1.25.0.tar.gz
###
##############################################################################
##############################################################################



install for i386

* installing *source* package 'ChIPseeker' ...
** using staged installation
** R
** data
** inst
** byte-compile and prepare package for lazy loading
** help
*** installing help indices
  converting help for package 'ChIPseeker'
    finding HTML links ... done
    ChIPseeker-package                      html  
    annotatePeak                            html  
    as.GRanges                              html  
    as.data.frame.csAnno                    html  
    covplot                                 html  
    csAnno-class                            html  
    dotFun                                  html  
    downloadGEObedFiles                     html  
    downloadGSMbedFiles                     html  
    dropAnno                                html  
    enrichAnnoOverlap                       html  
    enrichPeakOverlap                       html  
Rd warning: C:/Users/biocbuild/bbs-3.12-bioc/tmpdir/Rtmpw76i5h/R.INSTALL1e38711e66/ChIPseeker/man/enrichPeakOverlap.Rd:34: file link 'mclapply' in package 'parallel' does not exist and so has been treated as a topic
    getBioRegion                            html  
    getGEOInfo                              html  
    getGEOgenomeVersion                     html  
    getGEOspecies                           html  
    getGeneAnno                             html  
    getGenomicAnnotation                    html  
    getNearestFeatureIndicesAndDistances    html  
    getPromoters                            html  
    getSampleFiles                          html  
    getTagMatrix                            html  
    info                                    html  
    overlap                                 html  
    peakHeatmap                             html  
    plotAnnoBar-methods                     html  
    plotAnnoBar.data.frame                  html  
    plotAnnoPie-methods                     html  
    plotAnnoPie.csAnno                      html  
    plotAvgProf                             html  
    plotAvgProf2                            html  
    plotDistToTSS-methods                   html  
    plotDistToTSS.data.frame                html  
    readPeakFile                            html  
    reexports                               html  
Rd warning: C:/Users/biocbuild/bbs-3.12-bioc/tmpdir/Rtmpw76i5h/R.INSTALL1e38711e66/ChIPseeker/man/reexports.Rd:14: file link 'GRangesList' in package 'GenomicRanges' does not exist and so has been treated as a topic
    seq2gene                                html  
    show-methods                            html  
    shuffle                                 html  
    tagHeatmap                              html  
    upsetplot-methods                       html  
    vennpie-methods                         html  
    vennplot                                html  
    vennplot.peakfile                       html  
** building package indices
** installing vignettes
** testing if installed package can be loaded from temporary location
** testing if installed package can be loaded from final location
** testing if installed package keeps a record of temporary installation path

install for x64

* installing *source* package 'ChIPseeker' ...
** testing if installed package can be loaded
* MD5 sums
packaged installation of 'ChIPseeker' as ChIPseeker_1.25.0.zip
* DONE (ChIPseeker)