Back to Multiple platform build/check report for BioC 3.12
A[B]CDEFGHIJKLMNOPQRSTUVWXYZ

BUILD report for BUS on tokay1

This page was generated on 2020-08-13 11:35:21 -0400 (Thu, 13 Aug 2020).

TO THE DEVELOPERS/MAINTAINERS OF THE BUS PACKAGE: Please make sure to use the following settings in order to reproduce any error or warning you see on this page.
Package 209/1885HostnameOS / ArchINSTALLBUILDCHECKBUILD BIN
BUS 1.45.0
Yuanhua Liu
Snapshot Date: 2020-08-12 14:52:00 -0400 (Wed, 12 Aug 2020)
URL: https://git.bioconductor.org/packages/BUS
Branch: master
Last Commit: 91dd3f0
Last Changed Date: 2020-04-27 14:19:39 -0400 (Mon, 27 Apr 2020)
malbec1 Linux (Ubuntu 18.04.4 LTS) / x86_64  OK  OK  OK UNNEEDED, same version exists in internal repository
nebbiolo1 Linux (Ubuntu 20.04.1 LTS) / x86_64  OK  OK  OK 
tokay1 Windows Server 2012 R2 Standard / x64  OK [ OK ] OK  OK UNNEEDED, same version exists in internal repository
merida1 macOS 10.14.6 Mojave / x86_64  OK  OK  OK  OK UNNEEDED, same version exists in internal repository

Summary

Package: BUS
Version: 1.45.0
Command: chmod a+r BUS -R && C:\Users\biocbuild\bbs-3.12-bioc\R\bin\R.exe CMD build --keep-empty-dirs --no-resave-data BUS
StartedAt: 2020-08-12 19:25:46 -0400 (Wed, 12 Aug 2020)
EndedAt: 2020-08-12 19:26:09 -0400 (Wed, 12 Aug 2020)
EllapsedTime: 23.1 seconds
RetCode: 0
Status:  OK  
PackageFile: BUS_1.45.0.tar.gz
PackageFileSize: 2.76 MiB

Command output

##############################################################################
##############################################################################
###
### Running command:
###
###   chmod a+r BUS -R && C:\Users\biocbuild\bbs-3.12-bioc\R\bin\R.exe CMD build --keep-empty-dirs --no-resave-data BUS
###
##############################################################################
##############################################################################


* checking for file 'BUS/DESCRIPTION' ... OK
* preparing 'BUS':
* checking DESCRIPTION meta-information ... OK
* cleaning src
* installing the package to build vignettes
* creating vignettes ... OK
* cleaning src
* checking for LF line-endings in source and make files and shell scripts
* checking for empty or unneeded directories
* looking to see if a 'data/datalist' file should be added
* building 'BUS_1.45.0.tar.gz'