Back to Multiple platform build/check report for BioC 3.12
A[B]CDEFGHIJKLMNOPQRSTUVWXYZ

BUILD BIN report for bigmemoryExtras on merida1

This page was generated on 2020-08-12 11:55:25 -0400 (Wed, 12 Aug 2020).

TO THE DEVELOPERS/MAINTAINERS OF THE bigmemoryExtras PACKAGE: Please make sure to use the following settings in order to reproduce any error or warning you see on this page.
Package 141/1885HostnameOS / ArchINSTALLBUILDCHECKBUILD BIN
bigmemoryExtras 1.37.0
Peter M. Haverty
Snapshot Date: 2020-08-11 14:50:16 -0400 (Tue, 11 Aug 2020)
URL: https://git.bioconductor.org/packages/bigmemoryExtras
Branch: master
Last Commit: 7d5bdae
Last Changed Date: 2020-04-27 14:31:32 -0400 (Mon, 27 Apr 2020)
malbec1 Linux (Ubuntu 18.04.4 LTS) / x86_64  OK  OK  WARNINGS UNNEEDED, same version exists in internal repository
nebbiolo1 Linux (Ubuntu 20.04.1 LTS) / x86_64  OK  OK  WARNINGS 
tokay1 Windows Server 2012 R2 Standard / x64 ...NOT SUPPORTED...
merida1 macOS 10.14.6 Mojave / x86_64  OK  OK  WARNINGS [ OK ]UNNEEDED, same version exists in internal repository

Summary

Package: bigmemoryExtras
Version: 1.37.0
Command: rm -rf bigmemoryExtras.buildbin-libdir && mkdir bigmemoryExtras.buildbin-libdir && /Users/biocbuild/BBS/utils/build-universal.sh bigmemoryExtras_1.37.0.tar.gz /Library/Frameworks/R.framework/Versions/Current/Resources/bin/R bigmemoryExtras.buildbin-libdir
StartedAt: 2020-08-12 06:48:46 -0400 (Wed, 12 Aug 2020)
EndedAt: 2020-08-12 06:49:36 -0400 (Wed, 12 Aug 2020)
EllapsedTime: 50.7 seconds
RetCode: 0
Status:  OK 
PackageFile: bigmemoryExtras_1.37.0.tgz
PackageFileSize: 213.3 KiB

Command output

##############################################################################
##############################################################################
###
### Running command:
###
###   rm -rf bigmemoryExtras.buildbin-libdir && mkdir bigmemoryExtras.buildbin-libdir && /Users/biocbuild/BBS/utils/build-universal.sh bigmemoryExtras_1.37.0.tar.gz /Library/Frameworks/R.framework/Versions/Current/Resources/bin/R bigmemoryExtras.buildbin-libdir
###
##############################################################################
##############################################################################


>>>>>>> 
>>>>>>> INSTALLATION WITH 'R CMD INSTALL --preclean --no-multiarch --library=bigmemoryExtras.buildbin-libdir bigmemoryExtras_1.37.0.tar.gz'
>>>>>>> 

* installing *source* package ‘bigmemoryExtras’ ...
** using staged installation
** R
** inst
** byte-compile and prepare package for lazy loading
Creating a generic function for ‘apply’ from package ‘base’ in package ‘bigmemoryExtras’
Creating a generic function for ‘nlevels’ from package ‘base’ in package ‘bigmemoryExtras’
** help
*** installing help indices
** building package indices
** installing vignettes
** testing if installed package can be loaded from temporary location
** testing if installed package can be loaded from final location
** testing if installed package keeps a record of temporary installation path
* DONE (bigmemoryExtras)