Back to Multiple platform build/check report for BioC 3.12
[A]BCDEFGHIJKLMNOPQRSTUVWXYZ

BUILD BIN report for a4Base on tokay1

This page was generated on 2020-08-10 12:13:24 -0400 (Mon, 10 Aug 2020).

TO THE DEVELOPERS/MAINTAINERS OF THE a4Base PACKAGE: Please make sure to use the following settings in order to reproduce any error or warning you see on this page.
Package 2/1882HostnameOS / ArchINSTALLBUILDCHECKBUILD BIN
a4Base 1.37.0
Tobias Verbeke
Snapshot Date: 2020-08-09 14:51:29 -0400 (Sun, 09 Aug 2020)
URL: https://git.bioconductor.org/packages/a4Base
Branch: master
Last Commit: a12798d
Last Changed Date: 2020-04-27 14:25:17 -0400 (Mon, 27 Apr 2020)
malbec1 Linux (Ubuntu 18.04.4 LTS) / x86_64  OK  OK  WARNINGS UNNEEDED, same version exists in internal repository
nebbiolo1 Linux (Ubuntu 20.04.1 LTS) / x86_64  OK  OK  WARNINGS 
tokay1 Windows Server 2012 R2 Standard / x64  OK  OK  ERROR [ OK ]
merida1 macOS 10.14.6 Mojave / x86_64  OK  OK  WARNINGS  OK UNNEEDED, same version exists in internal repository

Summary

Package: a4Base
Version: 1.37.0
Command: rm -rf a4Base.buildbin-libdir && mkdir a4Base.buildbin-libdir && C:\Users\biocbuild\bbs-3.12-bioc\R\bin\R.exe CMD INSTALL --merge-multiarch --build --library=a4Base.buildbin-libdir a4Base_1.37.0.tar.gz
StartedAt: 2020-08-10 07:16:44 -0400 (Mon, 10 Aug 2020)
EndedAt: 2020-08-10 07:17:32 -0400 (Mon, 10 Aug 2020)
EllapsedTime: 47.5 seconds
RetCode: 0
Status:  OK  
PackageFile: a4Base_1.37.0.zip
PackageFileSize: 591.6 KiB

Command output

##############################################################################
##############################################################################
###
### Running command:
###
###   rm -rf a4Base.buildbin-libdir && mkdir a4Base.buildbin-libdir && C:\Users\biocbuild\bbs-3.12-bioc\R\bin\R.exe CMD INSTALL --merge-multiarch --build --library=a4Base.buildbin-libdir a4Base_1.37.0.tar.gz
###
##############################################################################
##############################################################################



install for i386

* installing *source* package 'a4Base' ...
** using staged installation
** R
** data
** inst
** byte-compile and prepare package for lazy loading
Warning message:
Package 'KEGG.db' is deprecated and will be removed from Bioconductor
  version 3.12 
** help
*** installing help indices
  converting help for package 'a4Base'
    finding HTML links ... done
    ExpressionSetWithComputation            html  
Rd warning: C:/Users/biocbuild/bbs-3.12-bioc/tmpdir/RtmpABvwfl/R.INSTALL197847883bd6/a4Base/man/ExpressionSetWithComputation.Rd:23: file link 'ExpressionSet' in package 'Biobase' does not exist and so has been treated as a topic
Rd warning: C:/Users/biocbuild/bbs-3.12-bioc/tmpdir/RtmpABvwfl/R.INSTALL197847883bd6/a4Base/man/ExpressionSetWithComputation.Rd:24: file link 'eSet' in package 'Biobase' does not exist and so has been treated as a topic
Rd warning: C:/Users/biocbuild/bbs-3.12-bioc/tmpdir/RtmpABvwfl/R.INSTALL197847883bd6/a4Base/man/ExpressionSetWithComputation.Rd:25: file link 'VersionedBiobase' in package 'Biobase' does not exist and so has been treated as a topic
Rd warning: C:/Users/biocbuild/bbs-3.12-bioc/tmpdir/RtmpABvwfl/R.INSTALL197847883bd6/a4Base/man/ExpressionSetWithComputation.Rd:26: file link 'Versioned' in package 'Biobase' does not exist and so has been treated as a topic
Rd warning: C:/Users/biocbuild/bbs-3.12-bioc/tmpdir/RtmpABvwfl/R.INSTALL197847883bd6/a4Base/man/ExpressionSetWithComputation.Rd:33: file link 'ExpressionSet' in package 'Biobase' does not exist and so has been treated as a topic
    a4palette                               html  
Rd warning: C:/Users/biocbuild/bbs-3.12-bioc/tmpdir/RtmpABvwfl/R.INSTALL197847883bd6/a4Base/man/a4palette.Rd:27: file link 'rainbow' in package 'grDevices' does not exist and so has been treated as a topic
    addQuantilesColors                      html  
    boxPlot                                 html  
    combineTwoExpressionSet                 html  
Rd warning: C:/Users/biocbuild/bbs-3.12-bioc/tmpdir/RtmpABvwfl/R.INSTALL197847883bd6/a4Base/man/combineTwoExpressionSet.Rd:22: file link 'ExpressionSet' in package 'Biobase' does not exist and so has been treated as a topic
    computeLogRatio                         html  
    createExpressionSet                     html  
Rd warning: C:/Users/biocbuild/bbs-3.12-bioc/tmpdir/RtmpABvwfl/R.INSTALL197847883bd6/a4Base/man/createExpressionSet.Rd:30: file link 'ExpressionSet' in package 'Biobase' does not exist and so has been treated as a topic
    filterVarInt                            html  
    heatmap.expressionSet                   html  
    histPvalue                              html  
    histpvalueplotter                       html  
    lassoReg                                html  
    limmaTwoLevels                          html  
    logReg                                  html  
    nlcvTT                                  html  
    plot1gene                               html  
    plotComb2Samples                        html  
    plotCombMultSamples                     html  
    plotCombination2genes                   html  
    plotLogRatio                            html  
    probabilitiesPlot                       html  
    probe2gene                              html  
    profilesPlot                            html  
    propDEgenes-methods                     html  
    propDEgenes                             html  
    propdegenescalculation                  html  
    replicates                              html  
    spectralMap-methods                     html  
    spectralMap                             html  
    tTest                                   html  
Rd warning: C:/Users/biocbuild/bbs-3.12-bioc/tmpdir/RtmpABvwfl/R.INSTALL197847883bd6/a4Base/man/tTest.Rd:40: file link 'rowttests' in package 'genefilter' does not exist and so has been treated as a topic
    topTable-methods                        html  
    volcanoPlot-methods                     html  
    volcanoPlot                             html  
    volcanoplotter                          html  
** building package indices
** testing if installed package can be loaded from temporary location
Warning: Package 'KEGG.db' is deprecated and will be removed from Bioconductor
  version 3.12
** testing if installed package can be loaded from final location
Warning: Package 'KEGG.db' is deprecated and will be removed from Bioconductor
  version 3.12
** testing if installed package keeps a record of temporary installation path

install for x64

* installing *source* package 'a4Base' ...
** testing if installed package can be loaded
Warning: Package 'KEGG.db' is deprecated and will be removed from Bioconductor
  version 3.12
* MD5 sums
packaged installation of 'a4Base' as a4Base_1.37.0.zip
* DONE (a4Base)