Back to Multiple platform build/check report for BioC 3.12
AB[C]DEFGHIJKLMNOPQRSTUVWXYZ

BUILD BIN report for canceR on merida1

This page was generated on 2021-02-22 12:42:02 -0500 (Mon, 22 Feb 2021).

To the developers/maintainers of the canceR package:
Please make sure to use the following settings in order to reproduce any error or warning you see on this page.
Package 227/1974HostnameOS / ArchINSTALLBUILDCHECKBUILD BIN
canceR 1.24.0
Karim Mezhoud
Snapshot Date: 2021-02-21 14:52:07 -0500 (Sun, 21 Feb 2021)
URL: https://git.bioconductor.org/packages/canceR
Branch: RELEASE_3_12
Last Commit: 84f757f
Last Changed Date: 2020-10-27 11:03:04 -0500 (Tue, 27 Oct 2020)
malbec1Linux (Ubuntu 18.04.5 LTS) / x86_64  OK    OK    OK  UNNEEDED, same version exists in internal repository
nebbiolo1Linux (Ubuntu 20.04.2 LTS) / x86_64  OK    OK    OK  
tokay1Windows Server 2012 R2 Standard / x64  OK    OK    OK    OK  UNNEEDED, same version exists in internal repository
merida1macOS 10.14.6 Mojave / x86_64  OK    OK    OK    OK  UNNEEDED, same version exists in internal repository

Summary

Package: canceR
Version: 1.24.0
Command: rm -rf canceR.buildbin-libdir && mkdir canceR.buildbin-libdir && /Users/biocbuild/BBS/utils/build-universal.sh canceR_1.24.0.tar.gz /Library/Frameworks/R.framework/Versions/Current/Resources/bin/R canceR.buildbin-libdir
StartedAt: 2021-02-22 08:06:10 -0500 (Mon, 22 Feb 2021)
EndedAt: 2021-02-22 08:07:16 -0500 (Mon, 22 Feb 2021)
EllapsedTime: 66.0 seconds
RetCode: 0
Status:   OK  
PackageFile: canceR_1.24.0.tgz
PackageFileSize: 2.962 MiB

Command output

##############################################################################
##############################################################################
###
### Running command:
###
###   rm -rf canceR.buildbin-libdir && mkdir canceR.buildbin-libdir && /Users/biocbuild/BBS/utils/build-universal.sh canceR_1.24.0.tar.gz /Library/Frameworks/R.framework/Versions/Current/Resources/bin/R canceR.buildbin-libdir
###
##############################################################################
##############################################################################


>>>>>>> 
>>>>>>> INSTALLATION WITH 'R CMD INSTALL --preclean --no-multiarch --library=canceR.buildbin-libdir canceR_1.24.0.tar.gz'
>>>>>>> 

* installing *source* package ‘canceR’ ...
** using staged installation
** R
** inst
** byte-compile and prepare package for lazy loading
** help
*** installing help indices
** building package indices
** testing if installed package can be loaded from temporary location
** testing if installed package can be loaded from final location
** testing if installed package keeps a record of temporary installation path
* DONE (canceR)