Back to Multiple platform build/check report for BioC 3.12
[A]BCDEFGHIJKLMNOPQRSTUVWXYZ

BUILD BIN report for acde on merida1

This page was generated on 2020-08-10 12:37:34 -0400 (Mon, 10 Aug 2020).

TO THE DEVELOPERS/MAINTAINERS OF THE acde PACKAGE: Please make sure to use the following settings in order to reproduce any error or warning you see on this page.
Package 11/1882HostnameOS / ArchINSTALLBUILDCHECKBUILD BIN
acde 1.19.0
Juan Pablo Acosta
Snapshot Date: 2020-08-09 14:51:29 -0400 (Sun, 09 Aug 2020)
URL: https://git.bioconductor.org/packages/acde
Branch: master
Last Commit: b0efcae
Last Changed Date: 2020-04-27 14:49:17 -0400 (Mon, 27 Apr 2020)
malbec1 Linux (Ubuntu 18.04.4 LTS) / x86_64  OK  OK  OK UNNEEDED, same version exists in internal repository
nebbiolo1 Linux (Ubuntu 20.04.1 LTS) / x86_64  OK  OK  OK 
tokay1 Windows Server 2012 R2 Standard / x64  OK  OK  OK  OK UNNEEDED, same version exists in internal repository
merida1 macOS 10.14.6 Mojave / x86_64  OK  OK  OK [ OK ]UNNEEDED, same version exists in internal repository

Summary

Package: acde
Version: 1.19.0
Command: rm -rf acde.buildbin-libdir && mkdir acde.buildbin-libdir && /Users/biocbuild/BBS/utils/build-universal.sh acde_1.19.0.tar.gz /Library/Frameworks/R.framework/Versions/Current/Resources/bin/R acde.buildbin-libdir
StartedAt: 2020-08-10 06:52:03 -0400 (Mon, 10 Aug 2020)
EndedAt: 2020-08-10 06:52:42 -0400 (Mon, 10 Aug 2020)
EllapsedTime: 39.2 seconds
RetCode: 0
Status:  OK 
PackageFile: acde_1.19.0.tgz
PackageFileSize: 7.998 MiB

Command output

##############################################################################
##############################################################################
###
### Running command:
###
###   rm -rf acde.buildbin-libdir && mkdir acde.buildbin-libdir && /Users/biocbuild/BBS/utils/build-universal.sh acde_1.19.0.tar.gz /Library/Frameworks/R.framework/Versions/Current/Resources/bin/R acde.buildbin-libdir
###
##############################################################################
##############################################################################


>>>>>>> 
>>>>>>> INSTALLATION WITH 'R CMD INSTALL --preclean --no-multiarch --library=acde.buildbin-libdir acde_1.19.0.tar.gz'
>>>>>>> 

* installing *source* package ‘acde’ ...
** using staged installation
** R
** data
*** moving datasets to lazyload DB
** inst
** byte-compile and prepare package for lazy loading
** help
*** installing help indices
** building package indices
** installing vignettes
** testing if installed package can be loaded from temporary location
** testing if installed package can be loaded from final location
** testing if installed package keeps a record of temporary installation path
* DONE (acde)