Back to Multiple platform build/check report for BioC 3.12
[A]BCDEFGHIJKLMNOPQRSTUVWXYZ

BUILD BIN report for AssessORF on merida1

This page was generated on 2021-01-24 11:56:39 -0500 (Sun, 24 Jan 2021).

TO THE DEVELOPERS/MAINTAINERS OF THE AssessORF PACKAGE: Please make sure to use the following settings in order to reproduce any error or warning you see on this page.
Package 96/1974HostnameOS / ArchINSTALLBUILDCHECKBUILD BIN
AssessORF 1.8.0
Deepank Korandla
Snapshot Date: 2021-01-23 14:40:16 -0500 (Sat, 23 Jan 2021)
URL: https://git.bioconductor.org/packages/AssessORF
Branch: RELEASE_3_12
Last Commit: 3cb4cb1
Last Changed Date: 2020-10-27 11:40:18 -0500 (Tue, 27 Oct 2020)
malbec1 Linux (Ubuntu 18.04.5 LTS) / x86_64  OK  OK  OK UNNEEDED, same version exists in internal repository
nebbiolo1 Linux (Ubuntu 20.04.1 LTS) / x86_64  OK  OK  OK 
tokay1 Windows Server 2012 R2 Standard / x64  OK  OK  OK  OK UNNEEDED, same version exists in internal repository
merida1 macOS 10.14.6 Mojave / x86_64  OK  OK  OK [ OK ]UNNEEDED, same version exists in internal repository

Summary

Package: AssessORF
Version: 1.8.0
Command: rm -rf AssessORF.buildbin-libdir && mkdir AssessORF.buildbin-libdir && /Users/biocbuild/BBS/utils/build-universal.sh AssessORF_1.8.0.tar.gz /Library/Frameworks/R.framework/Versions/Current/Resources/bin/R AssessORF.buildbin-libdir
StartedAt: 2021-01-24 06:56:41 -0500 (Sun, 24 Jan 2021)
EndedAt: 2021-01-24 06:57:55 -0500 (Sun, 24 Jan 2021)
EllapsedTime: 74.6 seconds
RetCode: 0
Status:  OK 
PackageFile: AssessORF_1.8.0.tgz
PackageFileSize: 4.727 MiB

Command output

##############################################################################
##############################################################################
###
### Running command:
###
###   rm -rf AssessORF.buildbin-libdir && mkdir AssessORF.buildbin-libdir && /Users/biocbuild/BBS/utils/build-universal.sh AssessORF_1.8.0.tar.gz /Library/Frameworks/R.framework/Versions/Current/Resources/bin/R AssessORF.buildbin-libdir
###
##############################################################################
##############################################################################


>>>>>>> 
>>>>>>> INSTALLATION WITH 'R CMD INSTALL --preclean --no-multiarch --library=AssessORF.buildbin-libdir AssessORF_1.8.0.tar.gz'
>>>>>>> 

* installing *source* package ‘AssessORF’ ...
** using staged installation
** R
** inst
** byte-compile and prepare package for lazy loading
** help
*** installing help indices
** building package indices
** installing vignettes
** testing if installed package can be loaded from temporary location
** testing if installed package can be loaded from final location
** testing if installed package keeps a record of temporary installation path
* DONE (AssessORF)