Back to Multiple platform build/check report for BioC 3.12 |
|
This page was generated on 2021-04-12 12:32:51 -0400 (Mon, 12 Apr 2021).
To the developers/maintainers of the BRAIN package: Please make sure to use the following settings in order to reproduce any error or warning you see on this page. |
Package 201/1974 | Hostname | OS / Arch | INSTALL | BUILD | CHECK | BUILD BIN | ||||||||
BRAIN 1.36.0 (landing page) Piotr Dittwald
| malbec1 | Linux (Ubuntu 18.04.5 LTS) / x86_64 | OK | OK | WARNINGS | ![]() | ||||||||
tokay1 | Windows Server 2012 R2 Standard / x64 | OK | OK | WARNINGS | OK | ![]() | ||||||||
merida1 | macOS 10.14.6 Mojave / x86_64 | OK | OK | WARNINGS | OK | ![]() | ||||||||
Package: BRAIN |
Version: 1.36.0 |
Command: /Library/Frameworks/R.framework/Versions/Current/Resources/bin/R CMD build --keep-empty-dirs --no-resave-data BRAIN |
StartedAt: 2021-04-11 18:29:06 -0400 (Sun, 11 Apr 2021) |
EndedAt: 2021-04-11 18:29:32 -0400 (Sun, 11 Apr 2021) |
EllapsedTime: 25.4 seconds |
RetCode: 0 |
Status: OK |
PackageFile: BRAIN_1.36.0.tar.gz |
PackageFileSize: 1.925 MiB |
############################################################################## ############################################################################## ### ### Running command: ### ### /Library/Frameworks/R.framework/Versions/Current/Resources/bin/R CMD build --keep-empty-dirs --no-resave-data BRAIN ### ############################################################################## ############################################################################## * checking for file ‘BRAIN/DESCRIPTION’ ... OK * preparing ‘BRAIN’: * checking DESCRIPTION meta-information ... OK * installing the package to build vignettes * creating vignettes ... OK * checking for LF line-endings in source and make files and shell scripts * checking for empty or unneeded directories * building ‘BRAIN_1.36.0.tar.gz’