Back to Multiple platform build/check report for BioC 3.12
[A]BCDEFGHIJKLMNOPQRSTUVWXYZ

BUILD BIN report for arrayMvout on tokay1

This page was generated on 2020-09-19 10:18:59 -0400 (Sat, 19 Sep 2020).

TO THE DEVELOPERS/MAINTAINERS OF THE arrayMvout PACKAGE: Please make sure to use the following settings in order to reproduce any error or warning you see on this page.
Package 78/1912HostnameOS / ArchINSTALLBUILDCHECKBUILD BIN
arrayMvout 1.47.0
V. Carey
Snapshot Date: 2020-09-18 14:43:25 -0400 (Fri, 18 Sep 2020)
URL: https://git.bioconductor.org/packages/arrayMvout
Branch: master
Last Commit: 972577c
Last Changed Date: 2020-04-27 14:18:24 -0400 (Mon, 27 Apr 2020)
malbec1 Linux (Ubuntu 18.04.4 LTS) / x86_64  OK  OK  OK UNNEEDED, same version exists in internal repository
nebbiolo1 Linux (Ubuntu 20.04.1 LTS) / x86_64  OK  OK  OK 
tokay1 Windows Server 2012 R2 Standard / x64  OK  OK  OK [ OK ]UNNEEDED, same version exists in internal repository
riesling1 Windows Server 2019 Standard / x64  OK  OK  OK  OK 
merida1 macOS 10.14.6 Mojave / x86_64  OK  OK  OK  OK UNNEEDED, same version exists in internal repository

Summary

Package: arrayMvout
Version: 1.47.0
Command: rm -rf arrayMvout.buildbin-libdir && mkdir arrayMvout.buildbin-libdir && C:\Users\biocbuild\bbs-3.12-bioc\R\bin\R.exe CMD INSTALL --merge-multiarch --build --library=arrayMvout.buildbin-libdir arrayMvout_1.47.0.tar.gz
StartedAt: 2020-09-19 07:57:34 -0400 (Sat, 19 Sep 2020)
EndedAt: 2020-09-19 07:59:14 -0400 (Sat, 19 Sep 2020)
EllapsedTime: 100.5 seconds
RetCode: 0
Status:  OK  
PackageFile: arrayMvout_1.47.0.zip
PackageFileSize: 731.8 KiB

Command output

##############################################################################
##############################################################################
###
### Running command:
###
###   rm -rf arrayMvout.buildbin-libdir && mkdir arrayMvout.buildbin-libdir && C:\Users\biocbuild\bbs-3.12-bioc\R\bin\R.exe CMD INSTALL --merge-multiarch --build --library=arrayMvout.buildbin-libdir arrayMvout_1.47.0.tar.gz
###
##############################################################################
##############################################################################



install for i386

* installing *source* package 'arrayMvout' ...
** using staged installation
** R
** data
** inst
** byte-compile and prepare package for lazy loading
No methods found in package 'RSQLite' for request: 'dbListFields' when loading 'lumi'
** help
*** installing help indices
  converting help for package 'arrayMvout'
    finding HTML links ... done
    ArrayOutliers-methods                   html  
    ArrayOutliers                           html  
    arrOutStruct-class                      html  
** building package indices
** installing vignettes
** testing if installed package can be loaded from temporary location
No methods found in package 'RSQLite' for request: 'dbListFields' when loading 'lumi'
** testing if installed package can be loaded from final location
No methods found in package 'RSQLite' for request: 'dbListFields' when loading 'lumi'
** testing if installed package keeps a record of temporary installation path

install for x64

* installing *source* package 'arrayMvout' ...
** testing if installed package can be loaded
No methods found in package 'RSQLite' for request: 'dbListFields' when loading 'lumi'
* MD5 sums
packaged installation of 'arrayMvout' as arrayMvout_1.47.0.zip
* DONE (arrayMvout)