Back to Multiple platform build/check report for BioC 3.12
[A]BCDEFGHIJKLMNOPQRSTUVWXYZ

INSTALL report for AWFisher on malbec1

This page was generated on 2020-08-07 11:47:00 -0400 (Fri, 07 Aug 2020).

TO THE DEVELOPERS/MAINTAINERS OF THE AWFisher PACKAGE: Please make sure to use the following settings in order to reproduce any error or warning you see on this page.
Package 98/1882HostnameOS / ArchINSTALLBUILDCHECKBUILD BIN
AWFisher 1.3.0
Zhiguang Huo
Snapshot Date: 2020-08-06 14:50:46 -0400 (Thu, 06 Aug 2020)
URL: https://git.bioconductor.org/packages/AWFisher
Branch: master
Last Commit: 8696cf4
Last Changed Date: 2020-04-27 15:28:27 -0400 (Mon, 27 Apr 2020)
malbec1 Linux (Ubuntu 18.04.4 LTS) / x86_64 [ OK ] OK  OK UNNEEDED, same version exists in internal repository
tokay1 Windows Server 2012 R2 Standard / x64  OK  OK  OK  OK UNNEEDED, same version exists in internal repository
merida1 macOS 10.14.6 Mojave / x86_64  OK  OK  OK  OK UNNEEDED, same version exists in internal repository

Summary

Package: AWFisher
Version: 1.3.0
Command: /home/biocbuild/bbs-3.12-bioc/R/bin/R CMD INSTALL AWFisher
StartedAt: 2020-08-06 16:13:01 -0400 (Thu, 06 Aug 2020)
EndedAt: 2020-08-06 16:13:05 -0400 (Thu, 06 Aug 2020)
EllapsedTime: 4.3 seconds
RetCode: 0
Status:  OK 

Command output

##############################################################################
##############################################################################
###
### Running command:
###
###   /home/biocbuild/bbs-3.12-bioc/R/bin/R CMD INSTALL AWFisher
###
##############################################################################
##############################################################################


* installing to library ‘/home/biocbuild/bbs-3.12-bioc/R/library’
* installing *source* package ‘AWFisher’ ...
** using staged installation
** libs
g++ -std=gnu++11 -I"/home/biocbuild/bbs-3.12-bioc/R/include" -DNDEBUG   -I/usr/local/include   -fpic  -g -O2  -Wall -c AWFisher.cpp -o AWFisher.o
g++ -std=gnu++11 -shared -L/home/biocbuild/bbs-3.12-bioc/R/lib -L/usr/local/lib -o AWFisher.so AWFisher.o -L/home/biocbuild/bbs-3.12-bioc/R/lib -lR
installing to /home/biocbuild/bbs-3.12-bioc/R/library/00LOCK-AWFisher/00new/AWFisher/libs
** R
** data
** inst
** byte-compile and prepare package for lazy loading
** help
*** installing help indices
** building package indices
** installing vignettes
** testing if installed package can be loaded from temporary location
** checking absolute paths in shared objects and dynamic libraries
** testing if installed package can be loaded from final location
** testing if installed package keeps a record of temporary installation path
* DONE (AWFisher)