Back to Multiple platform build/check report for BioC 3.12
[A]BCDEFGHIJKLMNOPQRSTUVWXYZ

INSTALL report for annotationTools on merida1

This page was generated on 2020-10-29 12:36:08 -0400 (Thu, 29 Oct 2020).

TO THE DEVELOPERS/MAINTAINERS OF THE annotationTools PACKAGE: Please make sure to use the following settings in order to reproduce any error or warning you see on this page.
Package 68/1974HostnameOS / ArchINSTALLBUILDCHECKBUILD BIN
annotationTools 1.64.0
Alexandre Kuhn
Snapshot Date: 2020-10-28 14:42:40 -0400 (Wed, 28 Oct 2020)
URL: https://git.bioconductor.org/packages/annotationTools
Branch: RELEASE_3_12
Last Commit: 8b4f650
Last Changed Date: 2020-10-27 10:30:36 -0400 (Tue, 27 Oct 2020)
malbec1 Linux (Ubuntu 18.04.4 LTS) / x86_64  OK  OK  OK UNNEEDED, same version exists in internal repository
nebbiolo1 Linux (Ubuntu 20.04.1 LTS) / x86_64  OK  OK  OK 
tokay1 Windows Server 2012 R2 Standard / x64  OK  OK  OK  OK UNNEEDED, same version exists in internal repository
merida1 macOS 10.14.6 Mojave / x86_64 [ OK ] OK  OK  OK UNNEEDED, same version exists in internal repository

Summary

Package: annotationTools
Version: 1.64.0
Command: /Library/Frameworks/R.framework/Versions/Current/Resources/bin/R CMD INSTALL annotationTools
StartedAt: 2020-10-28 16:23:02 -0400 (Wed, 28 Oct 2020)
EndedAt: 2020-10-28 16:23:28 -0400 (Wed, 28 Oct 2020)
EllapsedTime: 25.9 seconds
RetCode: 0
Status:  OK 

Command output

##############################################################################
##############################################################################
###
### Running command:
###
###   /Library/Frameworks/R.framework/Versions/Current/Resources/bin/R CMD INSTALL annotationTools
###
##############################################################################
##############################################################################


* installing to library ‘/Library/Frameworks/R.framework/Versions/4.0/Resources/library’
* installing *source* package ‘annotationTools’ ...
** using staged installation
** R
** data
** inst
** byte-compile and prepare package for lazy loading
** help
*** installing help indices
** building package indices
** installing vignettes
** testing if installed package can be loaded from temporary location
** testing if installed package can be loaded from final location
** testing if installed package keeps a record of temporary installation path
* DONE (annotationTools)