Back to Multiple platform build/check report for BioC 3.12
ABCDEFGHIJKLMNOP[Q]RSTUVWXYZ

BUILD report for QuaternaryProd on tokay1

This page was generated on 2021-02-22 12:40:05 -0500 (Mon, 22 Feb 2021).

To the developers/maintainers of the QuaternaryProd package:
Please make sure to use the following settings in order to reproduce any error or warning you see on this page.
Package 1437/1974HostnameOS / ArchINSTALLBUILDCHECKBUILD BIN
QuaternaryProd 1.24.0
Carl Tony Fakhry
Snapshot Date: 2021-02-21 14:52:07 -0500 (Sun, 21 Feb 2021)
URL: https://git.bioconductor.org/packages/QuaternaryProd
Branch: RELEASE_3_12
Last Commit: b94d3a2
Last Changed Date: 2020-10-27 11:10:17 -0500 (Tue, 27 Oct 2020)
malbec1Linux (Ubuntu 18.04.5 LTS) / x86_64  OK    OK    OK  UNNEEDED, same version exists in internal repository
nebbiolo1Linux (Ubuntu 20.04.2 LTS) / x86_64  OK    OK    OK  
tokay1Windows Server 2012 R2 Standard / x64  OK    OK    OK    OK  UNNEEDED, same version exists in internal repository
merida1macOS 10.14.6 Mojave / x86_64  OK    OK    OK    OK  UNNEEDED, same version exists in internal repository

Summary

Package: QuaternaryProd
Version: 1.24.0
Command: chmod a+r QuaternaryProd -R && C:\Users\biocbuild\bbs-3.12-bioc\R\bin\R.exe CMD build --keep-empty-dirs --no-resave-data QuaternaryProd
StartedAt: 2021-02-21 22:53:57 -0500 (Sun, 21 Feb 2021)
EndedAt: 2021-02-21 22:59:36 -0500 (Sun, 21 Feb 2021)
EllapsedTime: 339.2 seconds
RetCode: 0
Status:   OK   
PackageFile: QuaternaryProd_1.24.0.tar.gz
PackageFileSize: 10.75 MiB

Command output

##############################################################################
##############################################################################
###
### Running command:
###
###   chmod a+r QuaternaryProd -R && C:\Users\biocbuild\bbs-3.12-bioc\R\bin\R.exe CMD build --keep-empty-dirs --no-resave-data QuaternaryProd
###
##############################################################################
##############################################################################


* checking for file 'QuaternaryProd/DESCRIPTION' ... OK
* preparing 'QuaternaryProd':
* checking DESCRIPTION meta-information ... OK
* cleaning src
* installing the package to build vignettes
* creating vignettes ... OK
* cleaning src
* checking for LF line-endings in source and make files and shell scripts
* checking for empty or unneeded directories
* building 'QuaternaryProd_1.24.0.tar.gz'