Back to Multiple platform build/check report for BioC 3.12
AB[C]DEFGHIJKLMNOPQRSTUVWXYZ

BUILD BIN report for caOmicsV on merida1

This page was generated on 2020-08-07 12:32:47 -0400 (Fri, 07 Aug 2020).

TO THE DEVELOPERS/MAINTAINERS OF THE caOmicsV PACKAGE: Please make sure to use the following settings in order to reproduce any error or warning you see on this page.
Package 223/1882HostnameOS / ArchINSTALLBUILDCHECKBUILD BIN
caOmicsV 1.19.0
Henry Zhang
Snapshot Date: 2020-08-06 14:50:46 -0400 (Thu, 06 Aug 2020)
URL: https://git.bioconductor.org/packages/caOmicsV
Branch: master
Last Commit: 2d96ecc
Last Changed Date: 2020-04-27 14:49:25 -0400 (Mon, 27 Apr 2020)
malbec1 Linux (Ubuntu 18.04.4 LTS) / x86_64  OK  OK  WARNINGS UNNEEDED, same version exists in internal repository
tokay1 Windows Server 2012 R2 Standard / x64  OK  OK  WARNINGS  OK UNNEEDED, same version exists in internal repository
merida1 macOS 10.14.6 Mojave / x86_64  OK  OK  WARNINGS [ OK ]UNNEEDED, same version exists in internal repository

Summary

Package: caOmicsV
Version: 1.19.0
Command: rm -rf caOmicsV.buildbin-libdir && mkdir caOmicsV.buildbin-libdir && /Users/biocbuild/BBS/utils/build-universal.sh caOmicsV_1.19.0.tar.gz /Library/Frameworks/R.framework/Versions/Current/Resources/bin/R caOmicsV.buildbin-libdir
StartedAt: 2020-08-07 06:54:09 -0400 (Fri, 07 Aug 2020)
EndedAt: 2020-08-07 06:54:40 -0400 (Fri, 07 Aug 2020)
EllapsedTime: 30.4 seconds
RetCode: 0
Status:  OK 
PackageFile: caOmicsV_1.19.0.tgz
PackageFileSize: 2.967 MiB

Command output

##############################################################################
##############################################################################
###
### Running command:
###
###   rm -rf caOmicsV.buildbin-libdir && mkdir caOmicsV.buildbin-libdir && /Users/biocbuild/BBS/utils/build-universal.sh caOmicsV_1.19.0.tar.gz /Library/Frameworks/R.framework/Versions/Current/Resources/bin/R caOmicsV.buildbin-libdir
###
##############################################################################
##############################################################################


>>>>>>> 
>>>>>>> INSTALLATION WITH 'R CMD INSTALL --preclean --no-multiarch --library=caOmicsV.buildbin-libdir caOmicsV_1.19.0.tar.gz'
>>>>>>> 

* installing *source* package ‘caOmicsV’ ...
** using staged installation
** R
** data
** demo
** inst
** byte-compile and prepare package for lazy loading
** help
*** installing help indices
** building package indices
** installing vignettes
** testing if installed package can be loaded from temporary location
** testing if installed package can be loaded from final location
** testing if installed package keeps a record of temporary installation path
* DONE (caOmicsV)