Back to Multiple platform build/check report for BioC 3.12
ABCDEFGHIJKLMNOPQ[R]STUVWXYZ

Multiple platform build/check report for BioC 3.12

Results for recoup

This page was generated on 2020-10-24 10:56:03 -0400 (Sat, 24 Oct 2020).

Package 1492/1974HostnameOS / ArchINSTALLBUILDCHECKBUILD BIN
recoup 1.17.3
Panagiotis Moulos
Snapshot Date: 2020-10-23 14:40:36 -0400 (Fri, 23 Oct 2020)
URL: https://git.bioconductor.org/packages/recoup
Branch: master
Last Commit: 1aa018c
Last Changed Date: 2020-10-08 11:20:58 -0400 (Thu, 08 Oct 2020)
malbec1 Linux (Ubuntu 18.04.4 LTS) / x86_64  OK  OK  OK UNNEEDED, same version exists in internal repository
nebbiolo1 Linux (Ubuntu 20.04.1 LTS) / x86_64  OK  OK  OK 
tokay1 Windows Server 2012 R2 Standard / x64  OK  OK  OK  OK UNNEEDED, same version exists in internal repository
riesling1 Windows Server 2019 Standard / x64  OK  OK  OK  OK 
merida1 macOS 10.14.6 Mojave / x86_64  OK  OK  OK  OK UNNEEDED, same version exists in internal repository