Back to Multiple platform build/check report for BioC 3.12
A[B]CDEFGHIJKLMNOPQRSTUVWXYZ

BUILD report for BitSeq on malbec1

This page was generated on 2020-08-06 11:32:26 -0400 (Thu, 06 Aug 2020).

TO THE DEVELOPERS/MAINTAINERS OF THE BitSeq PACKAGE: Please make sure to use the following settings in order to reproduce any error or warning you see on this page.
Package 184/1882HostnameOS / ArchINSTALLBUILDCHECKBUILD BIN
BitSeq 1.33.1
Antti Honkela , Panagiotis Papastamoulis
Snapshot Date: 2020-08-05 14:50:59 -0400 (Wed, 05 Aug 2020)
URL: https://git.bioconductor.org/packages/BitSeq
Branch: master
Last Commit: a27c864
Last Changed Date: 2020-07-14 16:10:37 -0400 (Tue, 14 Jul 2020)
malbec1 Linux (Ubuntu 18.04.4 LTS) / x86_64  OK [ OK ] WARNINGS UNNEEDED, same version exists in internal repository
tokay1 Windows Server 2012 R2 Standard / x64  OK  OK  WARNINGS  OK UNNEEDED, same version exists in internal repository
merida1 macOS 10.14.6 Mojave / x86_64  OK  OK  WARNINGS  OK UNNEEDED, same version exists in internal repository

Summary

Package: BitSeq
Version: 1.33.1
Command: /home/biocbuild/bbs-3.12-bioc/R/bin/R CMD build --keep-empty-dirs --no-resave-data BitSeq
StartedAt: 2020-08-05 18:10:56 -0400 (Wed, 05 Aug 2020)
EndedAt: 2020-08-05 18:12:40 -0400 (Wed, 05 Aug 2020)
EllapsedTime: 103.5 seconds
RetCode: 0
Status:  OK 
PackageFile: BitSeq_1.33.1.tar.gz
PackageFileSize: 1.168 MiB

Command output

##############################################################################
##############################################################################
###
### Running command:
###
###   /home/biocbuild/bbs-3.12-bioc/R/bin/R CMD build --keep-empty-dirs --no-resave-data BitSeq
###
##############################################################################
##############################################################################


* checking for file ‘BitSeq/DESCRIPTION’ ... OK
* preparing ‘BitSeq’:
* checking DESCRIPTION meta-information ... OK
* cleaning src
* running ‘cleanup’
* installing the package to build vignettes
* creating vignettes ... OK
* cleaning src
* running ‘cleanup’
* checking for LF line-endings in source and make files and shell scripts
* checking for empty or unneeded directories
* building ‘BitSeq_1.33.1.tar.gz’