Back to Multiple platform build/check report for BioC 3.12
AB[C]DEFGHIJKLMNOPQRSTUVWXYZ

BUILD BIN report for CAFE on merida1

This page was generated on 2020-08-10 12:35:28 -0400 (Mon, 10 Aug 2020).

TO THE DEVELOPERS/MAINTAINERS OF THE CAFE PACKAGE: Please make sure to use the following settings in order to reproduce any error or warning you see on this page.
Package 212/1882HostnameOS / ArchINSTALLBUILDCHECKBUILD BIN
CAFE 1.25.0
Sander Bollen
Snapshot Date: 2020-08-09 14:51:29 -0400 (Sun, 09 Aug 2020)
URL: https://git.bioconductor.org/packages/CAFE
Branch: master
Last Commit: b80f942
Last Changed Date: 2020-04-27 14:38:56 -0400 (Mon, 27 Apr 2020)
malbec1 Linux (Ubuntu 18.04.4 LTS) / x86_64  OK  OK  WARNINGS UNNEEDED, same version exists in internal repository
nebbiolo1 Linux (Ubuntu 20.04.1 LTS) / x86_64  OK  OK  WARNINGS 
tokay1 Windows Server 2012 R2 Standard / x64  OK  OK  WARNINGS  OK UNNEEDED, same version exists in internal repository
merida1 macOS 10.14.6 Mojave / x86_64  OK  OK  WARNINGS [ OK ]UNNEEDED, same version exists in internal repository

Summary

Package: CAFE
Version: 1.25.0
Command: rm -rf CAFE.buildbin-libdir && mkdir CAFE.buildbin-libdir && /Users/biocbuild/BBS/utils/build-universal.sh CAFE_1.25.0.tar.gz /Library/Frameworks/R.framework/Versions/Current/Resources/bin/R CAFE.buildbin-libdir
StartedAt: 2020-08-10 06:36:30 -0400 (Mon, 10 Aug 2020)
EndedAt: 2020-08-10 06:37:27 -0400 (Mon, 10 Aug 2020)
EllapsedTime: 57.0 seconds
RetCode: 0
Status:  OK 
PackageFile: CAFE_1.25.0.tgz
PackageFileSize: 4.358 MiB

Command output

##############################################################################
##############################################################################
###
### Running command:
###
###   rm -rf CAFE.buildbin-libdir && mkdir CAFE.buildbin-libdir && /Users/biocbuild/BBS/utils/build-universal.sh CAFE_1.25.0.tar.gz /Library/Frameworks/R.framework/Versions/Current/Resources/bin/R CAFE.buildbin-libdir
###
##############################################################################
##############################################################################


>>>>>>> 
>>>>>>> INSTALLATION WITH 'R CMD INSTALL --preclean --no-multiarch --library=CAFE.buildbin-libdir CAFE_1.25.0.tar.gz'
>>>>>>> 

* installing *source* package ‘CAFE’ ...
** using staged installation
** R
** data
** inst
** byte-compile and prepare package for lazy loading
** help
*** installing help indices
** building package indices
** installing vignettes
** testing if installed package can be loaded from temporary location
** testing if installed package can be loaded from final location
** testing if installed package keeps a record of temporary installation path
* DONE (CAFE)