Back to Multiple platform build/check report for BioC 3.12
AB[C]DEFGHIJKLMNOPQRSTUVWXYZ

BUILD report for chimeraviz on tokay1

This page was generated on 2020-08-10 12:21:41 -0400 (Mon, 10 Aug 2020).

TO THE DEVELOPERS/MAINTAINERS OF THE chimeraviz PACKAGE: Please make sure to use the following settings in order to reproduce any error or warning you see on this page.
Package 269/1882HostnameOS / ArchINSTALLBUILDCHECKBUILD BIN
chimeraviz 1.15.0
Stian Lågstad
Snapshot Date: 2020-08-09 14:51:29 -0400 (Sun, 09 Aug 2020)
URL: https://git.bioconductor.org/packages/chimeraviz
Branch: master
Last Commit: 82f67eb
Last Changed Date: 2020-05-24 06:06:11 -0400 (Sun, 24 May 2020)
malbec1 Linux (Ubuntu 18.04.4 LTS) / x86_64  OK  OK  OK UNNEEDED, same version exists in internal repository
nebbiolo1 Linux (Ubuntu 20.04.1 LTS) / x86_64  OK  OK  OK 
tokay1 Windows Server 2012 R2 Standard / x64  OK [ OK ] OK  OK UNNEEDED, same version exists in internal repository
merida1 macOS 10.14.6 Mojave / x86_64  OK  ERROR  skipped  skipped 

Summary

Package: chimeraviz
Version: 1.15.0
Command: chmod a+r chimeraviz -R && C:\Users\biocbuild\bbs-3.12-bioc\R\bin\R.exe CMD build --keep-empty-dirs --no-resave-data chimeraviz
StartedAt: 2020-08-09 21:31:28 -0400 (Sun, 09 Aug 2020)
EndedAt: 2020-08-09 21:35:21 -0400 (Sun, 09 Aug 2020)
EllapsedTime: 233.9 seconds
RetCode: 0
Status:  OK  
PackageFile: chimeraviz_1.15.0.tar.gz
PackageFileSize: 2.718 MiB

Command output

##############################################################################
##############################################################################
###
### Running command:
###
###   chmod a+r chimeraviz -R && C:\Users\biocbuild\bbs-3.12-bioc\R\bin\R.exe CMD build --keep-empty-dirs --no-resave-data chimeraviz
###
##############################################################################
##############################################################################


* checking for file 'chimeraviz/DESCRIPTION' ... OK
* preparing 'chimeraviz':
* checking DESCRIPTION meta-information ... OK
* installing the package to build vignettes
* creating vignettes ... OK
* checking for LF line-endings in source and make files and shell scripts
* checking for empty or unneeded directories
WARNING: directory 'chimeraviz/docker' is empty
* building 'chimeraviz_1.15.0.tar.gz'