Back to Multiple platform build/check report for BioC 3.12
A[B]CDEFGHIJKLMNOPQRSTUVWXYZ

BUILD report for BASiCS on malbec1

This page was generated on 2020-10-29 12:15:16 -0400 (Thu, 29 Oct 2020).

TO THE DEVELOPERS/MAINTAINERS OF THE BASiCS PACKAGE: Please make sure to use the following settings in order to reproduce any error or warning you see on this page.
Package 119/1974HostnameOS / ArchINSTALLBUILDCHECKBUILD BIN
BASiCS 2.2.0
Catalina Vallejos
Snapshot Date: 2020-10-28 14:42:40 -0400 (Wed, 28 Oct 2020)
URL: https://git.bioconductor.org/packages/BASiCS
Branch: RELEASE_3_12
Last Commit: 75577c4
Last Changed Date: 2020-10-27 11:28:04 -0400 (Tue, 27 Oct 2020)
malbec1 Linux (Ubuntu 18.04.4 LTS) / x86_64  OK [ OK ] OK UNNEEDED, same version exists in internal repository
nebbiolo1 Linux (Ubuntu 20.04.1 LTS) / x86_64  OK  OK  OK 
tokay1 Windows Server 2012 R2 Standard / x64  OK  OK  OK  OK UNNEEDED, same version exists in internal repository
merida1 macOS 10.14.6 Mojave / x86_64  OK  OK  OK  OK UNNEEDED, same version exists in internal repository

Summary

Package: BASiCS
Version: 2.2.0
Command: /home/biocbuild/bbs-3.12-bioc/R/bin/R CMD build --keep-empty-dirs --no-resave-data BASiCS
StartedAt: 2020-10-28 17:59:16 -0400 (Wed, 28 Oct 2020)
EndedAt: 2020-10-28 18:01:19 -0400 (Wed, 28 Oct 2020)
EllapsedTime: 122.9 seconds
RetCode: 0
Status:  OK 
PackageFile: BASiCS_2.2.0.tar.gz
PackageFileSize: 3.069 MiB

Command output

##############################################################################
##############################################################################
###
### Running command:
###
###   /home/biocbuild/bbs-3.12-bioc/R/bin/R CMD build --keep-empty-dirs --no-resave-data BASiCS
###
##############################################################################
##############################################################################


* checking for file ‘BASiCS/DESCRIPTION’ ... OK
* preparing ‘BASiCS’:
* checking DESCRIPTION meta-information ... OK
* cleaning src
* installing the package to build vignettes
* creating vignettes ... OK
* cleaning src
* checking for LF line-endings in source and make files and shell scripts
* checking for empty or unneeded directories
* building ‘BASiCS_2.2.0.tar.gz’