Back to Multiple platform build/check report for BioC 3.12
AB[C]DEFGHIJKLMNOPQRSTUVWXYZ

CHECK report for CellBench on tokay1

This page was generated on 2020-08-10 12:26:02 -0400 (Mon, 10 Aug 2020).

TO THE DEVELOPERS/MAINTAINERS OF THE CellBench PACKAGE: Please make sure to use the following settings in order to reproduce any error or warning you see on this page.
Package 240/1882HostnameOS / ArchINSTALLBUILDCHECKBUILD BIN
CellBench 1.5.1
Shian Su
Snapshot Date: 2020-08-09 14:51:29 -0400 (Sun, 09 Aug 2020)
URL: https://git.bioconductor.org/packages/CellBench
Branch: master
Last Commit: 7282a9d
Last Changed Date: 2020-06-04 22:17:03 -0400 (Thu, 04 Jun 2020)
malbec1 Linux (Ubuntu 18.04.4 LTS) / x86_64  OK  OK  OK UNNEEDED, same version exists in internal repository
nebbiolo1 Linux (Ubuntu 20.04.1 LTS) / x86_64  OK  OK  OK 
tokay1 Windows Server 2012 R2 Standard / x64  OK  OK [ OK ] OK UNNEEDED, same version exists in internal repository
merida1 macOS 10.14.6 Mojave / x86_64  OK  OK  OK  OK UNNEEDED, same version exists in internal repository

Summary

Package: CellBench
Version: 1.5.1
Command: C:\Users\biocbuild\bbs-3.12-bioc\R\bin\R.exe CMD check --force-multiarch --install=check:CellBench.install-out.txt --library=C:\Users\biocbuild\bbs-3.12-bioc\R\library --no-vignettes --timings CellBench_1.5.1.tar.gz
StartedAt: 2020-08-10 05:16:51 -0400 (Mon, 10 Aug 2020)
EndedAt: 2020-08-10 05:23:34 -0400 (Mon, 10 Aug 2020)
EllapsedTime: 403.2 seconds
RetCode: 0
Status:  OK  
CheckDir: CellBench.Rcheck
Warnings: 0

Command output

##############################################################################
##############################################################################
###
### Running command:
###
###   C:\Users\biocbuild\bbs-3.12-bioc\R\bin\R.exe CMD check --force-multiarch --install=check:CellBench.install-out.txt --library=C:\Users\biocbuild\bbs-3.12-bioc\R\library --no-vignettes --timings CellBench_1.5.1.tar.gz
###
##############################################################################
##############################################################################


* using log directory 'C:/Users/biocbuild/bbs-3.12-bioc/meat/CellBench.Rcheck'
* using R version 4.0.2 (2020-06-22)
* using platform: x86_64-w64-mingw32 (64-bit)
* using session charset: ISO8859-1
* using option '--no-vignettes'
* checking for file 'CellBench/DESCRIPTION' ... OK
* checking extension type ... Package
* this is package 'CellBench' version '1.5.1'
* package encoding: UTF-8
* checking package namespace information ... OK
* checking package dependencies ... OK
* checking if this is a source package ... OK
* checking if there is a namespace ... OK
* checking for hidden files and directories ... OK
* checking for portable file names ... OK
* checking whether package 'CellBench' can be installed ... OK
* checking installed package size ... OK
* checking package directory ... OK
* checking 'build' directory ... OK
* checking DESCRIPTION meta-information ... OK
* checking top-level files ... OK
* checking for left-over files ... OK
* checking index information ... OK
* checking package subdirectories ... OK
* checking R files for non-ASCII characters ... OK
* checking R files for syntax errors ... OK
* loading checks for arch 'i386'
** checking whether the package can be loaded ... OK
** checking whether the package can be loaded with stated dependencies ... OK
** checking whether the package can be unloaded cleanly ... OK
** checking whether the namespace can be loaded with stated dependencies ... OK
** checking whether the namespace can be unloaded cleanly ... OK
* loading checks for arch 'x64'
** checking whether the package can be loaded ... OK
** checking whether the package can be loaded with stated dependencies ... OK
** checking whether the package can be unloaded cleanly ... OK
** checking whether the namespace can be loaded with stated dependencies ... OK
** checking whether the namespace can be unloaded cleanly ... OK
* checking dependencies in R code ... OK
* checking S3 generic/method consistency ... OK
* checking replacement functions ... OK
* checking foreign function calls ... OK
* checking R code for possible problems ... NOTE
cellbench_case_study: no visible global function definition for
  'browseURL'
Undefined global functions or variables:
  browseURL
Consider adding
  importFrom("utils", "browseURL")
to your NAMESPACE file.
* checking Rd files ... OK
* checking Rd metadata ... OK
* checking Rd cross-references ... OK
* checking for missing documentation entries ... OK
* checking for code/documentation mismatches ... OK
* checking Rd \usage sections ... OK
* checking Rd contents ... OK
* checking for unstated dependencies in examples ... OK
* checking contents of 'data' directory ... OK
* checking data for non-ASCII characters ... OK
* checking data for ASCII and uncompressed saves ... OK
* checking installed files from 'inst/doc' ... OK
* checking files in 'vignettes' ... OK
* checking examples ...
** running examples for arch 'i386' ... OK
** running examples for arch 'x64' ... OK
* checking for unstated dependencies in 'tests' ... OK
* checking tests ...
** running tests for arch 'i386' ...
  Running 'testthat.R'
 OK
** running tests for arch 'x64' ...
  Running 'testthat.R'
 OK
* checking for unstated dependencies in vignettes ... NOTE
'::' or ':::' import not declared from: 'DrImpute'
* checking package vignettes in 'inst/doc' ... OK
* checking running R code from vignettes ... SKIPPED
* checking re-building of vignette outputs ... SKIPPED
* checking PDF version of manual ... OK
* DONE

Status: 2 NOTEs
See
  'C:/Users/biocbuild/bbs-3.12-bioc/meat/CellBench.Rcheck/00check.log'
for details.



Installation output

CellBench.Rcheck/00install.out

##############################################################################
##############################################################################
###
### Running command:
###
###   C:\cygwin\bin\curl.exe -O https://malbec1.bioconductor.org/BBS/3.12/bioc/src/contrib/CellBench_1.5.1.tar.gz && rm -rf CellBench.buildbin-libdir && mkdir CellBench.buildbin-libdir && C:\Users\biocbuild\bbs-3.12-bioc\R\bin\R.exe CMD INSTALL --merge-multiarch --build --library=CellBench.buildbin-libdir CellBench_1.5.1.tar.gz && C:\Users\biocbuild\bbs-3.12-bioc\R\bin\R.exe CMD INSTALL CellBench_1.5.1.zip && rm CellBench_1.5.1.tar.gz CellBench_1.5.1.zip
###
##############################################################################
##############################################################################


  % Total    % Received % Xferd  Average Speed   Time    Time     Time  Current
                                 Dload  Upload   Total   Spent    Left  Speed

  0     0    0     0    0     0      0      0 --:--:-- --:--:-- --:--:--     0
100 3035k  100 3035k    0     0  41.7M      0 --:--:-- --:--:-- --:--:-- 44.2M

install for i386

* installing *source* package 'CellBench' ...
** using staged installation
** R
** data
*** moving datasets to lazyload DB
** inst
** byte-compile and prepare package for lazy loading
** help
*** installing help indices
  converting help for package 'CellBench'
    finding HTML links ... done
    CellBench-package                       html  
    all_unique                              html  
    any_task_errors                         html  
    apply_methods                           html  
    arrow_sep                               html  
    as_pipeline_list                        html  
    cache_method                            html  
    cellbench_case_study                    html  
    cellbench_file                          html  
    check_class                             html  
    clear_cached_datasets                   html  
    clear_cellbench_cache                   html  
    data_list                               html  
    filter_zero_genes                       html  
    fn_arg_seq                              html  
    fn_list                                 html  
    is.task_error                           html  
    keep_high_count_cells                   html  
    keep_high_count_genes                   html  
    keep_high_var_genes                     html  
    load_all_data                           html  
    mhead                                   html  
    pipeline_collapse                       html  
    print.fn_arg_seq                        html  
    print.task_error                        html  
    sample_cells                            html  
    sample_genes                            html  
    sample_sce_data                         html  
    set_cellbench_bpparam                   html  
    set_cellbench_cache_path                html  
    set_cellbench_threads                   html  
    strip_timing                            html  
    summary.benchmark_tbl                   html  
    time_methods                            html  
    unpack_timing                           html  
** building package indices
** installing vignettes
   'DataManipulation.Rmd' using 'UTF-8' 
   'Introduction.Rmd' using 'UTF-8' 
   'TidyversePatterns.Rmd' using 'UTF-8' 
   'Timing.Rmd' using 'UTF-8' 
   'WritingWrappers.Rmd' using 'UTF-8' 
** testing if installed package can be loaded from temporary location
** testing if installed package can be loaded from final location
** testing if installed package keeps a record of temporary installation path

install for x64

* installing *source* package 'CellBench' ...
** testing if installed package can be loaded
* MD5 sums
packaged installation of 'CellBench' as CellBench_1.5.1.zip
* DONE (CellBench)
* installing to library 'C:/Users/biocbuild/bbs-3.12-bioc/R/library'
package 'CellBench' successfully unpacked and MD5 sums checked

Tests output

CellBench.Rcheck/tests_i386/testthat.Rout


R version 4.0.2 (2020-06-22) -- "Taking Off Again"
Copyright (C) 2020 The R Foundation for Statistical Computing
Platform: i386-w64-mingw32/i386 (32-bit)

R is free software and comes with ABSOLUTELY NO WARRANTY.
You are welcome to redistribute it under certain conditions.
Type 'license()' or 'licence()' for distribution details.

R is a collaborative project with many contributors.
Type 'contributors()' for more information and
'citation()' on how to cite R or R packages in publications.

Type 'demo()' for some demos, 'help()' for on-line help, or
'help.start()' for an HTML browser interface to help.
Type 'q()' to quit R.

> library(testthat)
> library(CellBench)
Loading required package: SingleCellExperiment
Loading required package: SummarizedExperiment
Loading required package: GenomicRanges
Loading required package: stats4
Loading required package: BiocGenerics
Loading required package: parallel

Attaching package: 'BiocGenerics'

The following objects are masked from 'package:parallel':

    clusterApply, clusterApplyLB, clusterCall, clusterEvalQ,
    clusterExport, clusterMap, parApply, parCapply, parLapply,
    parLapplyLB, parRapply, parSapply, parSapplyLB

The following objects are masked from 'package:stats':

    IQR, mad, sd, var, xtabs

The following objects are masked from 'package:base':

    Filter, Find, Map, Position, Reduce, anyDuplicated, append,
    as.data.frame, basename, cbind, colnames, dirname, do.call,
    duplicated, eval, evalq, get, grep, grepl, intersect, is.unsorted,
    lapply, mapply, match, mget, order, paste, pmax, pmax.int, pmin,
    pmin.int, rank, rbind, rownames, sapply, setdiff, sort, table,
    tapply, union, unique, unsplit, which.max, which.min

Loading required package: S4Vectors

Attaching package: 'S4Vectors'

The following object is masked from 'package:base':

    expand.grid

Loading required package: IRanges

Attaching package: 'IRanges'

The following object is masked from 'package:grDevices':

    windows

Loading required package: GenomeInfoDb
Loading required package: Biobase
Welcome to Bioconductor

    Vignettes contain introductory material; view with
    'browseVignettes()'. To cite Bioconductor, see
    'citation("Biobase")', and for packages 'citation("pkgname")'.

Loading required package: DelayedArray
Loading required package: Matrix

Attaching package: 'Matrix'

The following object is masked from 'package:S4Vectors':

    expand

Loading required package: matrixStats

Attaching package: 'matrixStats'

The following objects are masked from 'package:Biobase':

    anyMissing, rowMedians


Attaching package: 'DelayedArray'

The following objects are masked from 'package:matrixStats':

    colMaxs, colMins, colRanges, rowMaxs, rowMins, rowRanges

The following objects are masked from 'package:base':

    aperm, apply, rowsum

Loading required package: magrittr

Attaching package: 'magrittr'

The following objects are masked from 'package:testthat':

    equals, is_less_than, not

Loading required package: tibble
> 
> test_check("CellBench")
== testthat results  ===========================================================
[ OK: 102 | SKIPPED: 0 | WARNINGS: 0 | FAILED: 0 ]
> 
> proc.time()
   user  system elapsed 
  16.21    0.92   61.43 

CellBench.Rcheck/tests_x64/testthat.Rout


R version 4.0.2 (2020-06-22) -- "Taking Off Again"
Copyright (C) 2020 The R Foundation for Statistical Computing
Platform: x86_64-w64-mingw32/x64 (64-bit)

R is free software and comes with ABSOLUTELY NO WARRANTY.
You are welcome to redistribute it under certain conditions.
Type 'license()' or 'licence()' for distribution details.

R is a collaborative project with many contributors.
Type 'contributors()' for more information and
'citation()' on how to cite R or R packages in publications.

Type 'demo()' for some demos, 'help()' for on-line help, or
'help.start()' for an HTML browser interface to help.
Type 'q()' to quit R.

> library(testthat)
> library(CellBench)
Loading required package: SingleCellExperiment
Loading required package: SummarizedExperiment
Loading required package: GenomicRanges
Loading required package: stats4
Loading required package: BiocGenerics
Loading required package: parallel

Attaching package: 'BiocGenerics'

The following objects are masked from 'package:parallel':

    clusterApply, clusterApplyLB, clusterCall, clusterEvalQ,
    clusterExport, clusterMap, parApply, parCapply, parLapply,
    parLapplyLB, parRapply, parSapply, parSapplyLB

The following objects are masked from 'package:stats':

    IQR, mad, sd, var, xtabs

The following objects are masked from 'package:base':

    Filter, Find, Map, Position, Reduce, anyDuplicated, append,
    as.data.frame, basename, cbind, colnames, dirname, do.call,
    duplicated, eval, evalq, get, grep, grepl, intersect, is.unsorted,
    lapply, mapply, match, mget, order, paste, pmax, pmax.int, pmin,
    pmin.int, rank, rbind, rownames, sapply, setdiff, sort, table,
    tapply, union, unique, unsplit, which.max, which.min

Loading required package: S4Vectors

Attaching package: 'S4Vectors'

The following object is masked from 'package:base':

    expand.grid

Loading required package: IRanges

Attaching package: 'IRanges'

The following object is masked from 'package:grDevices':

    windows

Loading required package: GenomeInfoDb
Loading required package: Biobase
Welcome to Bioconductor

    Vignettes contain introductory material; view with
    'browseVignettes()'. To cite Bioconductor, see
    'citation("Biobase")', and for packages 'citation("pkgname")'.

Loading required package: DelayedArray
Loading required package: Matrix

Attaching package: 'Matrix'

The following object is masked from 'package:S4Vectors':

    expand

Loading required package: matrixStats

Attaching package: 'matrixStats'

The following objects are masked from 'package:Biobase':

    anyMissing, rowMedians


Attaching package: 'DelayedArray'

The following objects are masked from 'package:matrixStats':

    colMaxs, colMins, colRanges, rowMaxs, rowMins, rowRanges

The following objects are masked from 'package:base':

    aperm, apply, rowsum

Loading required package: magrittr

Attaching package: 'magrittr'

The following objects are masked from 'package:testthat':

    equals, is_less_than, not

Loading required package: tibble
> 
> test_check("CellBench")
== testthat results  ===========================================================
[ OK: 102 | SKIPPED: 0 | WARNINGS: 0 | FAILED: 0 ]
> 
> proc.time()
   user  system elapsed 
  19.26    0.62   69.40 

Example timings

CellBench.Rcheck/examples_i386/CellBench-Ex.timings

nameusersystemelapsed
all_unique000
apply_methods0.040.000.04
arrow_sep0.020.000.02
as_pipeline_list0.060.000.06
cache_method000
cellbench_case_study000
cellbench_file000
check_class000
clear_cached_datasets000
clear_cellbench_cache000
data_list0.010.000.02
filter_zero_genes000
fn_arg_seq0.030.000.03
fn_list000
keep_high_count_cells0.300.030.33
keep_high_count_genes0.20.00.2
keep_high_var_genes0.140.000.14
load_all_data000
mhead000
pipeline_collapse0.110.000.11
print.fn_arg_seq000
sample_cells0.10.00.1
sample_genes0.090.020.17
set_cellbench_bpparam000
set_cellbench_cache_path000
set_cellbench_threads0.020.000.01
strip_timing000
summary.benchmark_tbl000
time_methods3.870.063.94
unpack_timing000

CellBench.Rcheck/examples_x64/CellBench-Ex.timings

nameusersystemelapsed
all_unique000
apply_methods0.050.000.05
arrow_sep000
as_pipeline_list0.040.000.05
cache_method000
cellbench_case_study000
cellbench_file000
check_class000
clear_cached_datasets000
clear_cellbench_cache000
data_list0.030.000.03
filter_zero_genes000
fn_arg_seq0.020.000.01
fn_list000
keep_high_count_cells0.300.020.31
keep_high_count_genes0.220.000.22
keep_high_var_genes0.140.010.16
load_all_data000
mhead000
pipeline_collapse0.120.000.12
print.fn_arg_seq0.020.000.02
sample_cells0.060.000.06
sample_genes0.130.000.12
set_cellbench_bpparam000
set_cellbench_cache_path000
set_cellbench_threads0.010.000.02
strip_timing000
summary.benchmark_tbl000
time_methods2.730.132.85
unpack_timing000