Back to Multiple platform build/check report for BioC 3.12
A[B]CDEFGHIJKLMNOPQRSTUVWXYZ

BUILD report for BBCAnalyzer on merida1

This page was generated on 2020-08-06 12:20:59 -0400 (Thu, 06 Aug 2020).

TO THE DEVELOPERS/MAINTAINERS OF THE BBCAnalyzer PACKAGE: Please make sure to use the following settings in order to reproduce any error or warning you see on this page.
Package 121/1882HostnameOS / ArchINSTALLBUILDCHECKBUILD BIN
BBCAnalyzer 1.19.0
Sarah Sandmann
Snapshot Date: 2020-08-05 14:50:59 -0400 (Wed, 05 Aug 2020)
URL: https://git.bioconductor.org/packages/BBCAnalyzer
Branch: master
Last Commit: ce4b1cf
Last Changed Date: 2020-04-27 14:50:41 -0400 (Mon, 27 Apr 2020)
malbec1 Linux (Ubuntu 18.04.4 LTS) / x86_64  OK  OK  OK UNNEEDED, same version exists in internal repository
tokay1 Windows Server 2012 R2 Standard / x64  OK  OK  WARNINGS  OK UNNEEDED, same version exists in internal repository
merida1 macOS 10.14.6 Mojave / x86_64  OK [ OK ] OK  OK UNNEEDED, same version exists in internal repository

Summary

Package: BBCAnalyzer
Version: 1.19.0
Command: /Library/Frameworks/R.framework/Versions/Current/Resources/bin/R CMD build --keep-empty-dirs --no-resave-data BBCAnalyzer
StartedAt: 2020-08-05 19:37:54 -0400 (Wed, 05 Aug 2020)
EndedAt: 2020-08-05 19:48:01 -0400 (Wed, 05 Aug 2020)
EllapsedTime: 607.3 seconds
RetCode: 0
Status:  OK 
PackageFile: BBCAnalyzer_1.19.0.tar.gz
PackageFileSize: 2.116 MiB

Command output

##############################################################################
##############################################################################
###
### Running command:
###
###   /Library/Frameworks/R.framework/Versions/Current/Resources/bin/R CMD build --keep-empty-dirs --no-resave-data BBCAnalyzer
###
##############################################################################
##############################################################################


* checking for file ‘BBCAnalyzer/DESCRIPTION’ ... OK
* preparing ‘BBCAnalyzer’:
* checking DESCRIPTION meta-information ... OK
* installing the package to process help pages
* saving partial Rd database
* creating vignettes ... OK
* checking for LF line-endings in source and make files and shell scripts
* checking for empty or unneeded directories
* building ‘BBCAnalyzer_1.19.0.tar.gz’