Back to Multiple platform build/check report for BioC 3.12
[A]BCDEFGHIJKLMNOPQRSTUVWXYZ

BUILD report for Anaquin on malbec1

This page was generated on 2020-08-06 11:39:31 -0400 (Thu, 06 Aug 2020).

TO THE DEVELOPERS/MAINTAINERS OF THE Anaquin PACKAGE: Please make sure to use the following settings in order to reproduce any error or warning you see on this page.
Package 51/1882HostnameOS / ArchINSTALLBUILDCHECKBUILD BIN
Anaquin 2.13.0
Ted Wong
Snapshot Date: 2020-08-05 14:50:59 -0400 (Wed, 05 Aug 2020)
URL: https://git.bioconductor.org/packages/Anaquin
Branch: master
Last Commit: aa8e5bd
Last Changed Date: 2020-04-27 15:01:01 -0400 (Mon, 27 Apr 2020)
malbec1 Linux (Ubuntu 18.04.4 LTS) / x86_64  OK [ OK ] OK UNNEEDED, same version exists in internal repository
tokay1 Windows Server 2012 R2 Standard / x64  OK  OK  OK  OK UNNEEDED, same version exists in internal repository
merida1 macOS 10.14.6 Mojave / x86_64  OK  OK  OK  OK UNNEEDED, same version exists in internal repository

Summary

Package: Anaquin
Version: 2.13.0
Command: /home/biocbuild/bbs-3.12-bioc/R/bin/R CMD build --keep-empty-dirs --no-resave-data Anaquin
StartedAt: 2020-08-05 19:54:59 -0400 (Wed, 05 Aug 2020)
EndedAt: 2020-08-05 19:55:20 -0400 (Wed, 05 Aug 2020)
EllapsedTime: 20.8 seconds
RetCode: 0
Status:  OK 
PackageFile: Anaquin_2.13.0.tar.gz
PackageFileSize: 441.7 KiB

Command output

##############################################################################
##############################################################################
###
### Running command:
###
###   /home/biocbuild/bbs-3.12-bioc/R/bin/R CMD build --keep-empty-dirs --no-resave-data Anaquin
###
##############################################################################
##############################################################################


* checking for file ‘Anaquin/DESCRIPTION’ ... OK
* preparing ‘Anaquin’:
* checking DESCRIPTION meta-information ... OK
* installing the package to build vignettes
* creating vignettes ... OK
* checking for LF line-endings in source and make files and shell scripts
* checking for empty or unneeded directories
* building ‘Anaquin_2.13.0.tar.gz’