Back to Multiple platform build/check report for BioC 3.12
[A]BCDEFGHIJKLMNOPQRSTUVWXYZ

BUILD report for apComplex on tokay1

This page was generated on 2020-08-06 11:49:27 -0400 (Thu, 06 Aug 2020).

TO THE DEVELOPERS/MAINTAINERS OF THE apComplex PACKAGE: Please make sure to use the following settings in order to reproduce any error or warning you see on this page.
Package 71/1882HostnameOS / ArchINSTALLBUILDCHECKBUILD BIN
apComplex 2.55.0
Denise Scholtens
Snapshot Date: 2020-08-05 14:50:59 -0400 (Wed, 05 Aug 2020)
URL: https://git.bioconductor.org/packages/apComplex
Branch: master
Last Commit: f952b2e
Last Changed Date: 2020-04-27 14:10:49 -0400 (Mon, 27 Apr 2020)
malbec1 Linux (Ubuntu 18.04.4 LTS) / x86_64  OK  OK  OK UNNEEDED, same version exists in internal repository
tokay1 Windows Server 2012 R2 Standard / x64  OK [ OK ] OK  OK UNNEEDED, same version exists in internal repository
merida1 macOS 10.14.6 Mojave / x86_64  OK  OK  OK  OK UNNEEDED, same version exists in internal repository

Summary

Package: apComplex
Version: 2.55.0
Command: chmod a+r apComplex -R && C:\Users\biocbuild\bbs-3.12-bioc\R\bin\R.exe CMD build --keep-empty-dirs --no-resave-data apComplex
StartedAt: 2020-08-05 19:11:38 -0400 (Wed, 05 Aug 2020)
EndedAt: 2020-08-05 19:12:18 -0400 (Wed, 05 Aug 2020)
EllapsedTime: 40.3 seconds
RetCode: 0
Status:  OK  
PackageFile: apComplex_2.55.0.tar.gz
PackageFileSize: 666 KiB

Command output

##############################################################################
##############################################################################
###
### Running command:
###
###   chmod a+r apComplex -R && C:\Users\biocbuild\bbs-3.12-bioc\R\bin\R.exe CMD build --keep-empty-dirs --no-resave-data apComplex
###
##############################################################################
##############################################################################


* checking for file 'apComplex/DESCRIPTION' ... OK
* preparing 'apComplex':
* checking DESCRIPTION meta-information ... OK
* installing the package to build vignettes
* creating vignettes ... OK
* checking for LF line-endings in source and make files and shell scripts
* checking for empty or unneeded directories
* looking to see if a 'data/datalist' file should be added
* building 'apComplex_2.55.0.tar.gz'