Back to Multiple platform build/check report for BioC 3.12
AB[C]DEFGHIJKLMNOPQRSTUVWXYZ

INSTALL report for ChemmineOB on malbec1

This page was generated on 2020-08-10 11:37:43 -0400 (Mon, 10 Aug 2020).

TO THE DEVELOPERS/MAINTAINERS OF THE ChemmineOB PACKAGE: Please make sure to use the following settings in order to reproduce any error or warning you see on this page.
Package 263/1882HostnameOS / ArchINSTALLBUILDCHECKBUILD BIN
ChemmineOB 1.27.1
Thomas Girke
Snapshot Date: 2020-08-09 14:51:29 -0400 (Sun, 09 Aug 2020)
URL: https://git.bioconductor.org/packages/ChemmineOB
Branch: master
Last Commit: 07550fb
Last Changed Date: 2020-05-06 18:39:47 -0400 (Wed, 06 May 2020)
malbec1 Linux (Ubuntu 18.04.4 LTS) / x86_64 [ ERROR ] ERROR  skipped 
nebbiolo1 Linux (Ubuntu 20.04.1 LTS) / x86_64  ERROR  ERROR  skipped 
tokay1 Windows Server 2012 R2 Standard / x64  ERROR  ERROR  skipped  skipped 
merida1 macOS 10.14.6 Mojave / x86_64  ERROR  ERROR  skipped  skipped 

Summary

Package: ChemmineOB
Version: 1.27.1
Command: /home/biocbuild/bbs-3.12-bioc/R/bin/R CMD INSTALL ChemmineOB
StartedAt: 2020-08-09 16:06:52 -0400 (Sun, 09 Aug 2020)
EndedAt: 2020-08-09 16:06:54 -0400 (Sun, 09 Aug 2020)
EllapsedTime: 2.5 seconds
RetCode: 1
Status:  ERROR 

Command output

##############################################################################
##############################################################################
###
### Running command:
###
###   /home/biocbuild/bbs-3.12-bioc/R/bin/R CMD INSTALL ChemmineOB
###
##############################################################################
##############################################################################


* installing to library ‘/home/biocbuild/bbs-3.12-bioc/R/library’
* installing *source* package ‘ChemmineOB’ ...
** using staged installation
checking for pkg-config... /usr/bin/pkg-config
checking pkg-config is at least version 0.9.0... yes
checking for OPENBABEL... no
checking for OPENBABEL... no
checking for gcc... gcc
checking whether the C compiler works... yes
checking for C compiler default output file name... a.out
checking for suffix of executables... 
checking whether we are cross compiling... no
checking for suffix of object files... o
checking whether we are using the GNU C compiler... yes
checking whether gcc accepts -g... yes
checking for gcc option to accept ISO C89... none needed
checking how to run the C preprocessor... gcc -E
configure: creating ./config.status
config.status: creating src/Makevars
** libs
g++ -std=gnu++11 -I"/home/biocbuild/bbs-3.12-bioc/R/include" -DNDEBUG  -I'/home/biocbuild/bbs-3.12-bioc/R/library/BH/include' -I'/home/biocbuild/bbs-3.12-bioc/R/library/Rcpp/include' -I/usr/local/include  -I/usr/include/eigen3  -DUSE_BOOST -DHAVE_EIGEN -fpic  -g -O2  -Wall -c ChemmineOB.cpp -o ChemmineOB.o
ChemmineOB.cpp:1569:10: fatal error: openbabel/obutil.h: No such file or directory
 #include <openbabel/obutil.h>
          ^~~~~~~~~~~~~~~~~~~~
compilation terminated.
/home/biocbuild/bbs-3.12-bioc/R/etc/Makeconf:176: recipe for target 'ChemmineOB.o' failed
make: *** [ChemmineOB.o] Error 1
ERROR: compilation failed for package ‘ChemmineOB’
* removing ‘/home/biocbuild/bbs-3.12-bioc/R/library/ChemmineOB’