Back to Multiple platform build/check report for BioC 3.12
AB[C]DEFGHIJKLMNOPQRSTUVWXYZ

BUILD BIN report for cellTree on tokay1

This page was generated on 2020-08-07 12:08:21 -0400 (Fri, 07 Aug 2020).

TO THE DEVELOPERS/MAINTAINERS OF THE cellTree PACKAGE: Please make sure to use the following settings in order to reproduce any error or warning you see on this page.
Package 249/1882HostnameOS / ArchINSTALLBUILDCHECKBUILD BIN
cellTree 1.19.0
David duVerle
Snapshot Date: 2020-08-06 14:50:46 -0400 (Thu, 06 Aug 2020)
URL: https://git.bioconductor.org/packages/cellTree
Branch: master
Last Commit: 2b8fe2d
Last Changed Date: 2020-04-27 14:53:44 -0400 (Mon, 27 Apr 2020)
malbec1 Linux (Ubuntu 18.04.4 LTS) / x86_64  OK  OK  OK UNNEEDED, same version exists in internal repository
tokay1 Windows Server 2012 R2 Standard / x64  OK  OK  TIMEOUT [ OK ]
merida1 macOS 10.14.6 Mojave / x86_64  OK  OK  OK  OK UNNEEDED, same version exists in internal repository

Summary

Package: cellTree
Version: 1.19.0
Command: rm -rf cellTree.buildbin-libdir && mkdir cellTree.buildbin-libdir && C:\Users\biocbuild\bbs-3.12-bioc\R\bin\R.exe CMD INSTALL --merge-multiarch --build --library=cellTree.buildbin-libdir cellTree_1.19.0.tar.gz
StartedAt: 2020-08-07 07:55:49 -0400 (Fri, 07 Aug 2020)
EndedAt: 2020-08-07 07:56:36 -0400 (Fri, 07 Aug 2020)
EllapsedTime: 46.6 seconds
RetCode: 0
Status:  OK  
PackageFile: cellTree_1.19.0.zip
PackageFileSize: 1013 KiB

Command output

##############################################################################
##############################################################################
###
### Running command:
###
###   rm -rf cellTree.buildbin-libdir && mkdir cellTree.buildbin-libdir && C:\Users\biocbuild\bbs-3.12-bioc\R\bin\R.exe CMD INSTALL --merge-multiarch --build --library=cellTree.buildbin-libdir cellTree_1.19.0.tar.gz
###
##############################################################################
##############################################################################



install for i386

* installing *source* package 'cellTree' ...
** using staged installation
** R
** data
*** moving datasets to lazyload DB
** inst
** byte-compile and prepare package for lazy loading

groupGOTerms: 	GOBPTerm, GOMFTerm, GOCCTerm environments built.
** help
*** installing help indices
  converting help for package 'cellTree'
    finding HTML links ... done
    HSMM_lda_model                          html  
    cell.ordering.table                     html  
Rd warning: C:/Users/biocbuild/bbs-3.12-bioc/tmpdir/RtmpOOryqB/R.INSTALL2cfc4f653710/cellTree/man/cell.ordering.table.Rd:10: file link 'igraph' in package 'igraph' does not exist and so has been treated as a topic
    cellTree-package                        html  
    compute.backbone.tree                   html  
Rd warning: C:/Users/biocbuild/bbs-3.12-bioc/tmpdir/RtmpOOryqB/R.INSTALL2cfc4f653710/cellTree/man/compute.backbone.tree.Rd:34: file link 'igraph' in package 'igraph' does not exist and so has been treated as a topic
    compute.go.enrichment                   html  
Rd warning: C:/Users/biocbuild/bbs-3.12-bioc/tmpdir/RtmpOOryqB/R.INSTALL2cfc4f653710/cellTree/man/compute.go.enrichment.Rd:30: file link 'igraph' in package 'igraph' does not exist and so has been treated as a topic
    compute.lda                             html  
Rd warning: C:/Users/biocbuild/bbs-3.12-bioc/tmpdir/RtmpOOryqB/R.INSTALL2cfc4f653710/cellTree/man/compute.lda.Rd:25: file link 'LDA-class' in package 'topicmodels' does not exist and so has been treated as a topic
Rd warning: C:/Users/biocbuild/bbs-3.12-bioc/tmpdir/RtmpOOryqB/R.INSTALL2cfc4f653710/cellTree/man/compute.lda.Rd:69: file link 'LDA' in package 'topicmodels' does not exist and so has been treated as a topic
Rd warning: C:/Users/biocbuild/bbs-3.12-bioc/tmpdir/RtmpOOryqB/R.INSTALL2cfc4f653710/cellTree/man/compute.lda.Rd:69: file link 'LDA_Gibbscontrol-class' in package 'topicmodels' does not exist and so has been treated as a topic
Rd warning: C:/Users/biocbuild/bbs-3.12-bioc/tmpdir/RtmpOOryqB/R.INSTALL2cfc4f653710/cellTree/man/compute.lda.Rd:69: file link 'CTM_VEMcontrol-class' in package 'topicmodels' does not exist and so has been treated as a topic
    ct.plot.go.dag                          html  
Rd warning: C:/Users/biocbuild/bbs-3.12-bioc/tmpdir/RtmpOOryqB/R.INSTALL2cfc4f653710/cellTree/man/ct.plot.go.dag.Rd:27: file link 'igraph' in package 'igraph' does not exist and so has been treated as a topic
    ct.plot.grouping                        html  
Rd warning: C:/Users/biocbuild/bbs-3.12-bioc/tmpdir/RtmpOOryqB/R.INSTALL2cfc4f653710/cellTree/man/ct.plot.grouping.Rd:12: file link 'igraph' in package 'igraph' does not exist and so has been treated as a topic
Rd warning: C:/Users/biocbuild/bbs-3.12-bioc/tmpdir/RtmpOOryqB/R.INSTALL2cfc4f653710/cellTree/man/ct.plot.grouping.Rd:31: file link 'igraph' in package 'igraph' does not exist and so has been treated as a topic
    ct.plot.heatmap                         html  
    ct.plot.topics                          html  
Rd warning: C:/Users/biocbuild/bbs-3.12-bioc/tmpdir/RtmpOOryqB/R.INSTALL2cfc4f653710/cellTree/man/ct.plot.topics.Rd:12: file link 'igraph' in package 'igraph' does not exist and so has been treated as a topic
Rd warning: C:/Users/biocbuild/bbs-3.12-bioc/tmpdir/RtmpOOryqB/R.INSTALL2cfc4f653710/cellTree/man/ct.plot.topics.Rd:27: file link 'igraph' in package 'igraph' does not exist and so has been treated as a topic
    get.cell.dists                          html  
    go.results.to.latex                     html  
** building package indices
** installing vignettes
** testing if installed package can be loaded from temporary location

groupGOTerms: 	GOBPTerm, GOMFTerm, GOCCTerm environments built.
** testing if installed package can be loaded from final location

groupGOTerms: 	GOBPTerm, GOMFTerm, GOCCTerm environments built.
** testing if installed package keeps a record of temporary installation path

install for x64

* installing *source* package 'cellTree' ...
** testing if installed package can be loaded

groupGOTerms: 	GOBPTerm, GOMFTerm, GOCCTerm environments built.
* MD5 sums
packaged installation of 'cellTree' as cellTree_1.19.0.zip
* DONE (cellTree)