Back to Multiple platform build/check report for BioC 3.12
[A]BCDEFGHIJKLMNOPQRSTUVWXYZ

INSTALL report for a4 on tokay1

This page was generated on 2020-08-11 11:38:12 -0400 (Tue, 11 Aug 2020).

TO THE DEVELOPERS/MAINTAINERS OF THE a4 PACKAGE: Please make sure to use the following settings in order to reproduce any error or warning you see on this page.
Package 1/1885HostnameOS / ArchINSTALLBUILDCHECKBUILD BIN
a4 1.37.0
Tobias Verbeke
Snapshot Date: 2020-08-10 14:50:56 -0400 (Mon, 10 Aug 2020)
URL: https://git.bioconductor.org/packages/a4
Branch: master
Last Commit: e86c9f6
Last Changed Date: 2020-04-27 14:25:31 -0400 (Mon, 27 Apr 2020)
malbec1 Linux (Ubuntu 18.04.4 LTS) / x86_64  OK  ERROR  skipped 
nebbiolo1 Linux (Ubuntu 20.04.1 LTS) / x86_64  OK  ERROR  skipped 
tokay1 Windows Server 2012 R2 Standard / x64 [ OK ] ERROR  skipped  skipped 
merida1 macOS 10.14.6 Mojave / x86_64  OK  ERROR  skipped  skipped 

Summary

Package: a4
Version: 1.37.0
Command: C:\cygwin\bin\curl.exe -O https://malbec1.bioconductor.org/BBS/3.12/bioc/src/contrib/a4_1.37.0.tar.gz && rm -rf a4.buildbin-libdir && mkdir a4.buildbin-libdir && C:\Users\biocbuild\bbs-3.12-bioc\R\bin\R.exe CMD INSTALL --merge-multiarch --build --library=a4.buildbin-libdir a4_1.37.0.tar.gz && C:\Users\biocbuild\bbs-3.12-bioc\R\bin\R.exe CMD INSTALL a4_1.37.0.zip && rm a4_1.37.0.tar.gz a4_1.37.0.zip
StartedAt: 2020-08-10 17:21:37 -0400 (Mon, 10 Aug 2020)
EndedAt: 2020-08-10 17:22:11 -0400 (Mon, 10 Aug 2020)
EllapsedTime: 33.5 seconds
RetCode: 0
Status:  OK  

Command output

##############################################################################
##############################################################################
###
### Running command:
###
###   C:\cygwin\bin\curl.exe -O https://malbec1.bioconductor.org/BBS/3.12/bioc/src/contrib/a4_1.37.0.tar.gz && rm -rf a4.buildbin-libdir && mkdir a4.buildbin-libdir && C:\Users\biocbuild\bbs-3.12-bioc\R\bin\R.exe CMD INSTALL --merge-multiarch --build --library=a4.buildbin-libdir a4_1.37.0.tar.gz && C:\Users\biocbuild\bbs-3.12-bioc\R\bin\R.exe CMD INSTALL a4_1.37.0.zip && rm a4_1.37.0.tar.gz a4_1.37.0.zip
###
##############################################################################
##############################################################################


  % Total    % Received % Xferd  Average Speed   Time    Time     Time  Current
                                 Dload  Upload   Total   Spent    Left  Speed

  0     0    0     0    0     0      0      0 --:--:-- --:--:-- --:--:--     0
100 24302  100 24302    0     0   603k      0 --:--:-- --:--:-- --:--:--  678k

install for i386

* installing *source* package 'a4' ...
** using staged installation
** R
** inst
** byte-compile and prepare package for lazy loading
Warning message:
Package 'KEGG.db' is deprecated and will be removed from Bioconductor
  version 3.12 
** help
No man pages found in package  'a4' 
*** installing help indices
** building package indices
** installing vignettes
** testing if installed package can be loaded from temporary location
Warning: Package 'KEGG.db' is deprecated and will be removed from Bioconductor
  version 3.12
** testing if installed package can be loaded from final location
Warning: Package 'KEGG.db' is deprecated and will be removed from Bioconductor
  version 3.12
** testing if installed package keeps a record of temporary installation path

install for x64

* installing *source* package 'a4' ...
** testing if installed package can be loaded
Warning: Package 'KEGG.db' is deprecated and will be removed from Bioconductor
  version 3.12
* MD5 sums
packaged installation of 'a4' as a4_1.37.0.zip
* DONE (a4)
* installing to library 'C:/Users/biocbuild/bbs-3.12-bioc/R/library'
package 'a4' successfully unpacked and MD5 sums checked