Back to Multiple platform build/check report for BioC 3.12
AB[C]DEFGHIJKLMNOPQRSTUVWXYZ

BUILD BIN report for CAnD on tokay1

This page was generated on 2020-10-14 11:16:01 -0400 (Wed, 14 Oct 2020).

TO THE DEVELOPERS/MAINTAINERS OF THE CAnD PACKAGE: Please make sure to use the following settings in order to reproduce any error or warning you see on this page.
Package 225/1930HostnameOS / ArchINSTALLBUILDCHECKBUILD BIN
CAnD 1.21.0
Caitlin McHugh
Snapshot Date: 2020-10-13 14:40:34 -0400 (Tue, 13 Oct 2020)
URL: https://git.bioconductor.org/packages/CAnD
Branch: master
Last Commit: 1cfd2da
Last Changed Date: 2020-04-27 14:48:46 -0400 (Mon, 27 Apr 2020)
malbec1 Linux (Ubuntu 18.04.4 LTS) / x86_64  OK  OK  OK UNNEEDED, same version exists in internal repository
nebbiolo1 Linux (Ubuntu 20.04.1 LTS) / x86_64  OK  OK  OK 
tokay1 Windows Server 2012 R2 Standard / x64  OK  OK  OK [ OK ]UNNEEDED, same version exists in internal repository
riesling1 Windows Server 2019 Standard / x64  OK  OK  OK  OK 
merida1 macOS 10.14.6 Mojave / x86_64  OK  OK  OK  OK UNNEEDED, same version exists in internal repository

Summary

Package: CAnD
Version: 1.21.0
Command: rm -rf CAnD.buildbin-libdir && mkdir CAnD.buildbin-libdir && C:\Users\biocbuild\bbs-3.12-bioc\R\bin\R.exe CMD INSTALL --merge-multiarch --build --library=CAnD.buildbin-libdir CAnD_1.21.0.tar.gz
StartedAt: 2020-10-14 10:37:56 -0400 (Wed, 14 Oct 2020)
EndedAt: 2020-10-14 10:38:36 -0400 (Wed, 14 Oct 2020)
EllapsedTime: 39.5 seconds
RetCode: 0
Status:  OK  
PackageFile: CAnD_1.21.0.zip
PackageFileSize: 443.3 KiB

Command output

##############################################################################
##############################################################################
###
### Running command:
###
###   rm -rf CAnD.buildbin-libdir && mkdir CAnD.buildbin-libdir && C:\Users\biocbuild\bbs-3.12-bioc\R\bin\R.exe CMD INSTALL --merge-multiarch --build --library=CAnD.buildbin-libdir CAnD_1.21.0.tar.gz
###
##############################################################################
##############################################################################



install for i386

* installing *source* package 'CAnD' ...
** using staged installation
** R
** data
** inst
** byte-compile and prepare package for lazy loading
** help
*** installing help indices
  converting help for package 'CAnD'
    finding HTML links ... done
    BonfCorr-method                         html  
    CAnD                                    html  
    CAnDResult-class                        html  
    ancestries                              html  
    barPlotAncest                           html  
    calc_combP                              html  
    getDiffMatrices                         html  
    overallStatistic-method                 html  
    overallpValue-method                    html  
    pValues-method                          html  
    plotPvals                               html  
    test-method                             html  
** building package indices
** installing vignettes
** testing if installed package can be loaded from temporary location
** testing if installed package can be loaded from final location
** testing if installed package keeps a record of temporary installation path

install for x64

* installing *source* package 'CAnD' ...
** testing if installed package can be loaded
* MD5 sums
packaged installation of 'CAnD' as CAnD_1.21.0.zip
* DONE (CAnD)