Back to Multiple platform build/check report for BioC 3.12
[A]BCDEFGHIJKLMNOPQRSTUVWXYZ

CHECK report for ABarray on malbec1

This page was generated on 2020-08-07 11:15:37 -0400 (Fri, 07 Aug 2020).

TO THE DEVELOPERS/MAINTAINERS OF THE ABarray PACKAGE: Please make sure to use the following settings in order to reproduce any error or warning you see on this page.
Package 8/1882HostnameOS / ArchINSTALLBUILDCHECKBUILD BIN
ABarray 1.57.0
Yongming Andrew Sun
Snapshot Date: 2020-08-06 14:50:46 -0400 (Thu, 06 Aug 2020)
URL: https://git.bioconductor.org/packages/ABarray
Branch: master
Last Commit: b38f114
Last Changed Date: 2020-04-27 14:13:31 -0400 (Mon, 27 Apr 2020)
malbec1 Linux (Ubuntu 18.04.4 LTS) / x86_64  OK  OK [ OK ]UNNEEDED, same version exists in internal repository
tokay1 Windows Server 2012 R2 Standard / x64  OK  OK  OK  OK UNNEEDED, same version exists in internal repository
merida1 macOS 10.14.6 Mojave / x86_64  OK  OK  OK  OK UNNEEDED, same version exists in internal repository

Summary

Package: ABarray
Version: 1.57.0
Command: /home/biocbuild/bbs-3.12-bioc/R/bin/R CMD check --install=check:ABarray.install-out.txt --library=/home/biocbuild/bbs-3.12-bioc/R/library --no-vignettes --timings ABarray_1.57.0.tar.gz
StartedAt: 2020-08-06 22:42:52 -0400 (Thu, 06 Aug 2020)
EndedAt: 2020-08-06 22:43:58 -0400 (Thu, 06 Aug 2020)
EllapsedTime: 65.2 seconds
RetCode: 0
Status:  OK 
CheckDir: ABarray.Rcheck
Warnings: 0

Command output

##############################################################################
##############################################################################
###
### Running command:
###
###   /home/biocbuild/bbs-3.12-bioc/R/bin/R CMD check --install=check:ABarray.install-out.txt --library=/home/biocbuild/bbs-3.12-bioc/R/library --no-vignettes --timings ABarray_1.57.0.tar.gz
###
##############################################################################
##############################################################################


* using log directory ‘/home/biocbuild/bbs-3.12-bioc/meat/ABarray.Rcheck’
* using R version 4.0.2 (2020-06-22)
* using platform: x86_64-pc-linux-gnu (64-bit)
* using session charset: UTF-8
* using option ‘--no-vignettes’
* checking for file ‘ABarray/DESCRIPTION’ ... OK
* this is package ‘ABarray’ version ‘1.57.0’
* checking package namespace information ... OK
* checking package dependencies ... OK
* checking if this is a source package ... OK
* checking if there is a namespace ... OK
* checking for hidden files and directories ... OK
* checking for portable file names ... OK
* checking for sufficient/correct file permissions ... OK
* checking whether package ‘ABarray’ can be installed ... OK
* checking installed package size ... OK
* checking package directory ... OK
* checking ‘build’ directory ... OK
* checking DESCRIPTION meta-information ... NOTE
Malformed Title field: should not end in a period.
* checking top-level files ... OK
* checking for left-over files ... OK
* checking index information ... OK
* checking package subdirectories ... OK
* checking R files for non-ASCII characters ... OK
* checking R files for syntax errors ... OK
* checking whether the package can be loaded ... OK
* checking whether the package can be loaded with stated dependencies ... OK
* checking whether the package can be unloaded cleanly ... OK
* checking whether the namespace can be loaded with stated dependencies ... OK
* checking whether the namespace can be unloaded cleanly ... OK
* checking dependencies in R code ... OK
* checking S3 generic/method consistency ... OK
* checking replacement functions ... OK
* checking foreign function calls ... OK
* checking R code for possible problems ... NOTE
ABarray: warning in read.table(dataFile, header = TRUE, sep = sep, nrow
  = 5000, colClasses = colRead): partial argument match of 'nrow' to
  'nrows'
ABarray: warning in read.table(dataFile, header = TRUE, sep = sep, nrow
  = 36000, colClasses = colRead, as.is = TRUE, check.names = FALSE,
  comment.char = "", na.string = c("NA", "MultipleValues", "Multiple
  Values")): partial argument match of 'na.string' to 'na.strings'
ABarray: warning in read.table(dataFile, header = TRUE, sep = sep, nrow
  = 36000, colClasses = colRead, as.is = TRUE, check.names = FALSE,
  comment.char = "", na.string = c("NA", "MultipleValues", "Multiple
  Values")): partial argument match of 'nrow' to 'nrows'
ABarray: warning in read.table(dataFile, header = TRUE, sep = sep, nrow
  = 36000, colClasses = colRead, check.names = FALSE, comment.char =
  "", na.string = c("NA", "MultipleValues", "Multiple Values")):
  partial argument match of 'na.string' to 'na.strings'
ABarray: warning in read.table(dataFile, header = TRUE, sep = sep, nrow
  = 36000, colClasses = colRead, check.names = FALSE, comment.char =
  "", na.string = c("NA", "MultipleValues", "Multiple Values")):
  partial argument match of 'nrow' to 'nrows'
ABarray: warning in dir.create(dataDir, showWarning = FALSE): partial
  argument match of 'showWarning' to 'showWarnings'
ABarray: warning in dir.create(pdfDir, showWarning = FALSE): partial
  argument match of 'showWarning' to 'showWarnings'
ABarray: warning in dir.create(jpgDir, showWarning = FALSE): partial
  argument match of 'showWarning' to 'showWarnings'
doLPE: warning in dir.create(dataDir, showWarning = FALSE): partial
  argument match of 'showWarning' to 'showWarnings'
doPlotEset: warning in dir.create(dataDir, showWarning = FALSE):
  partial argument match of 'showWarning' to 'showWarnings'
doPlotEset: warning in dir.create(pdfDir, showWarning = FALSE): partial
  argument match of 'showWarning' to 'showWarnings'
doPlotEset: warning in dir.create(jpgDir, showWarning = FALSE): partial
  argument match of 'showWarning' to 'showWarnings'
doPlotFCT: warning in dir.create(dataDir, showWarning = FALSE): partial
  argument match of 'showWarning' to 'showWarnings'
doPlotFCT: warning in dir.create(pdfDir, showWarning = FALSE): partial
  argument match of 'showWarning' to 'showWarnings'
doPlotFCT: warning in dir.create(jpgDir, showWarning = FALSE): partial
  argument match of 'showWarning' to 'showWarnings'
icpPlot: warning in jpeg(file = paste(jpgDir, fname, "_Heatmap.jpg",
  sep = ""), width = fWidth, height = fHeight): partial argument match
  of 'file' to 'filename'
ABarray: no visible binding for global variable ‘colSn’
ABarrayGUI : getImputeFunc: no visible binding for global variable
  ‘knnRbtn’
doLPE: no visible global function definition for ‘baseOlig.error’
doLPE: no visible global function definition for ‘lpe’
doVennDiagram: no visible global function definition for ‘vennCounts’
drawVennDiagram: no visible global function definition for ‘vennCounts’
getPantherMap: no visible binding for global variable ‘panther’
Undefined global functions or variables:
  baseOlig.error colSn knnRbtn lpe panther vennCounts
* checking Rd files ... NOTE
prepare_Rd: ABarrayGUI.Rd:12-13: Dropping empty section \arguments
prepare_Rd: calcsn.Rd:26-28: Dropping empty section \examples
prepare_Rd: cvv.Rd:22-24: Dropping empty section \examples
prepare_Rd: cvvPlot.Rd:24-26: Dropping empty section \examples
prepare_Rd: doVennDiagram.Rd:33-36: Dropping empty section \examples
prepare_Rd: getMemberEset.Rd:23-25: Dropping empty section \examples
prepare_Rd: getPantherMap.Rd:24-26: Dropping empty section \examples
prepare_Rd: hclusterPlot.Rd:27-29: Dropping empty section \examples
prepare_Rd: matrixPlot.Rd:32-34: Dropping empty section \examples
prepare_Rd: qnNormalize.Rd:52-54: Dropping empty section \examples
prepare_Rd: savejpg.Rd:26-28: Dropping empty section \examples
prepare_Rd: snSummary.Rd:22-25: Dropping empty section \examples
* checking Rd metadata ... OK
* checking Rd cross-references ... OK
* checking for missing documentation entries ... OK
* checking for code/documentation mismatches ... OK
* checking Rd \usage sections ... OK
* checking Rd contents ... OK
* checking for unstated dependencies in examples ... OK
* checking files in ‘vignettes’ ... OK
* checking examples ... OK
* checking for unstated dependencies in vignettes ... OK
* checking package vignettes in ‘inst/doc’ ... OK
* checking running R code from vignettes ... SKIPPED
* checking re-building of vignette outputs ... SKIPPED
* checking PDF version of manual ... OK
* DONE

Status: 3 NOTEs
See
  ‘/home/biocbuild/bbs-3.12-bioc/meat/ABarray.Rcheck/00check.log’
for details.



Installation output

ABarray.Rcheck/00install.out

##############################################################################
##############################################################################
###
### Running command:
###
###   /home/biocbuild/bbs-3.12-bioc/R/bin/R CMD INSTALL ABarray
###
##############################################################################
##############################################################################


* installing to library ‘/home/biocbuild/bbs-3.12-bioc/R/library’
* installing *source* package ‘ABarray’ ...
** using staged installation
** R
** byte-compile and prepare package for lazy loading
** help
*** installing help indices
** building package indices
** installing vignettes
** testing if installed package can be loaded from temporary location
** testing if installed package can be loaded from final location
** testing if installed package keeps a record of temporary installation path
* DONE (ABarray)

Tests output


Example timings

ABarray.Rcheck/ABarray-Ex.timings

nameusersystemelapsed
ABarray000
ABarrayGUI000
concord000
doANOVA0.0000.0000.001
doLPE0.0040.0000.001
doPlotEset0.0000.0000.001
doPlotFCT000
drawVennDiagram000
icpPlot000
imputeFlag000
lpe.fdr.BH000
mamaplot000
mvaPair2000
panel.cor000
panel.scatter000
rgcolorsfunc0.0040.0000.002
scaleColorBar000