Back to Multiple platform build/check report for BioC 3.12
A[B]CDEFGHIJKLMNOPQRSTUVWXYZ

BUILD BIN report for bigmelon on merida1

This page was generated on 2020-08-11 11:59:30 -0400 (Tue, 11 Aug 2020).

TO THE DEVELOPERS/MAINTAINERS OF THE bigmelon PACKAGE: Please make sure to use the following settings in order to reproduce any error or warning you see on this page.
Package 140/1885HostnameOS / ArchINSTALLBUILDCHECKBUILD BIN
bigmelon 1.15.0
Tyler J. Gorrie-Stone
Snapshot Date: 2020-08-10 14:50:56 -0400 (Mon, 10 Aug 2020)
URL: https://git.bioconductor.org/packages/bigmelon
Branch: master
Last Commit: be098f0
Last Changed Date: 2020-04-27 15:01:54 -0400 (Mon, 27 Apr 2020)
malbec1 Linux (Ubuntu 18.04.4 LTS) / x86_64  OK  OK  OK UNNEEDED, same version exists in internal repository
nebbiolo1 Linux (Ubuntu 20.04.1 LTS) / x86_64  OK  OK  NA 
tokay1 Windows Server 2012 R2 Standard / x64  OK  OK  OK  OK UNNEEDED, same version exists in internal repository
merida1 macOS 10.14.6 Mojave / x86_64  OK  OK  OK [ OK ]UNNEEDED, same version exists in internal repository

Summary

Package: bigmelon
Version: 1.15.0
Command: rm -rf bigmelon.buildbin-libdir && mkdir bigmelon.buildbin-libdir && /Users/biocbuild/BBS/utils/build-universal.sh bigmelon_1.15.0.tar.gz /Library/Frameworks/R.framework/Versions/Current/Resources/bin/R bigmelon.buildbin-libdir
StartedAt: 2020-08-11 07:32:59 -0400 (Tue, 11 Aug 2020)
EndedAt: 2020-08-11 07:34:00 -0400 (Tue, 11 Aug 2020)
EllapsedTime: 61.1 seconds
RetCode: 0
Status:  OK 
PackageFile: bigmelon_1.15.0.tgz
PackageFileSize: 1.168 MiB

Command output

##############################################################################
##############################################################################
###
### Running command:
###
###   rm -rf bigmelon.buildbin-libdir && mkdir bigmelon.buildbin-libdir && /Users/biocbuild/BBS/utils/build-universal.sh bigmelon_1.15.0.tar.gz /Library/Frameworks/R.framework/Versions/Current/Resources/bin/R bigmelon.buildbin-libdir
###
##############################################################################
##############################################################################


>>>>>>> 
>>>>>>> INSTALLATION WITH 'R CMD INSTALL --preclean --no-multiarch --library=bigmelon.buildbin-libdir bigmelon_1.15.0.tar.gz'
>>>>>>> 

* installing *source* package ‘bigmelon’ ...
** using staged installation
** R
** data
** inst
** byte-compile and prepare package for lazy loading
No methods found in package ‘RSQLite’ for request: ‘dbListFields’ when loading ‘lumi’
Creating a new generic function for ‘fot’ in package ‘bigmelon’
Creating a new generic function for ‘predictSex’ in package ‘bigmelon’
** help
*** installing help indices
** building package indices
** installing vignettes
** testing if installed package can be loaded from temporary location
No methods found in package ‘RSQLite’ for request: ‘dbListFields’ when loading ‘lumi’
** testing if installed package can be loaded from final location
No methods found in package ‘RSQLite’ for request: ‘dbListFields’ when loading ‘lumi’
** testing if installed package keeps a record of temporary installation path
* DONE (bigmelon)