Back to Multiple platform build/check report for BioC 3.12
AB[C]DEFGHIJKLMNOPQRSTUVWXYZ

INSTALL report for Category on tokay1

This page was generated on 2020-08-12 11:37:23 -0400 (Wed, 12 Aug 2020).

TO THE DEVELOPERS/MAINTAINERS OF THE Category PACKAGE: Please make sure to use the following settings in order to reproduce any error or warning you see on this page.
Package 228/1885HostnameOS / ArchINSTALLBUILDCHECKBUILD BIN
Category 2.55.0
Bioconductor Package Maintainer
Snapshot Date: 2020-08-11 14:50:16 -0400 (Tue, 11 Aug 2020)
URL: https://git.bioconductor.org/packages/Category
Branch: master
Last Commit: de14c93
Last Changed Date: 2020-04-27 14:11:31 -0400 (Mon, 27 Apr 2020)
malbec1 Linux (Ubuntu 18.04.4 LTS) / x86_64  OK  OK  OK UNNEEDED, same version exists in internal repository
nebbiolo1 Linux (Ubuntu 20.04.1 LTS) / x86_64  OK  OK  OK 
tokay1 Windows Server 2012 R2 Standard / x64 [ OK ] OK  OK  OK UNNEEDED, same version exists in internal repository
merida1 macOS 10.14.6 Mojave / x86_64  OK  OK  OK  OK UNNEEDED, same version exists in internal repository

Summary

Package: Category
Version: 2.55.0
Command: C:\cygwin\bin\curl.exe -O https://malbec1.bioconductor.org/BBS/3.12/bioc/src/contrib/Category_2.55.0.tar.gz && rm -rf Category.buildbin-libdir && mkdir Category.buildbin-libdir && C:\Users\biocbuild\bbs-3.12-bioc\R\bin\R.exe CMD INSTALL --merge-multiarch --build --library=Category.buildbin-libdir Category_2.55.0.tar.gz && C:\Users\biocbuild\bbs-3.12-bioc\R\bin\R.exe CMD INSTALL Category_2.55.0.zip && rm Category_2.55.0.tar.gz Category_2.55.0.zip
StartedAt: 2020-08-11 17:48:08 -0400 (Tue, 11 Aug 2020)
EndedAt: 2020-08-11 17:49:10 -0400 (Tue, 11 Aug 2020)
EllapsedTime: 61.5 seconds
RetCode: 0
Status:  OK  

Command output

##############################################################################
##############################################################################
###
### Running command:
###
###   C:\cygwin\bin\curl.exe -O https://malbec1.bioconductor.org/BBS/3.12/bioc/src/contrib/Category_2.55.0.tar.gz && rm -rf Category.buildbin-libdir && mkdir Category.buildbin-libdir && C:\Users\biocbuild\bbs-3.12-bioc\R\bin\R.exe CMD INSTALL --merge-multiarch --build --library=Category.buildbin-libdir Category_2.55.0.tar.gz && C:\Users\biocbuild\bbs-3.12-bioc\R\bin\R.exe CMD INSTALL Category_2.55.0.zip && rm Category_2.55.0.tar.gz Category_2.55.0.zip
###
##############################################################################
##############################################################################


  % Total    % Received % Xferd  Average Speed   Time    Time     Time  Current
                                 Dload  Upload   Total   Spent    Left  Speed

  0     0    0     0    0     0      0      0 --:--:-- --:--:-- --:--:--     0
100  162k  100  162k    0     0  3836k      0 --:--:-- --:--:-- --:--:-- 4276k

install for i386

* installing *source* package 'Category' ...
** using staged installation
** R
** inst
** byte-compile and prepare package for lazy loading
** help
*** installing help indices
  converting help for package 'Category'
    finding HTML links ... done
    Category-defunct                        html  
    ChrBandTree-class                       html  
    ChrMapHyperGParams-class                html  
    ChrMapHyperGResult-class                html  
    ChrMapLinearMParams-class               html  
    ChrMapLinearMResult-class               html  
    DatPkg-class                            html  
    GOHyperGParams-class                    html  
    GSEAGOHyperGParams                      html  
    HyperGParams-class                      html  
    HyperGResult-accessors                  html  
    HyperGResult-class                      html  
    HyperGResultBase-class                  html  
    KEGGHyperGParams-class                  html  
    LinearMParams-class                     html  
    LinearMResult-class                     html  
    LinearMResultBase-class                 html  
    MAPAmat                                 html  
    NewChrBandTree                          html  
    OBOHyperGParams-class                   html  
    applyByCategory                         html  
    cateGOryMatrix                          html  
    categoryToEntrezBuilder                 html  
    cb_contingency                          html  
    cb_parse_band_Hs                        html  
    cb_parse_band_Mm                        html  
    cb_test                                 html  
    effectSize                              html  
    exampleLevels                           html  
    findAMstats                             html  
    getPathNames                            html  
    gseattperm                              html  
    hyperGTest                              html  
    hyperg                                  html  
    linearMTest                             html  
    local_test_factory                      html  
    makeChrBandGraph                        html  
    makeEBcontr                             html  
    makeValidParams                         html  
    probes2MAP                              html  
    probes2Path                             html  
    tree_visitor                            html  
    ttperm                                  html  
    universeBuilder                         html  
** building package indices
** installing vignettes
** testing if installed package can be loaded from temporary location
** testing if installed package can be loaded from final location
** testing if installed package keeps a record of temporary installation path

install for x64

* installing *source* package 'Category' ...
** testing if installed package can be loaded
* MD5 sums
packaged installation of 'Category' as Category_2.55.0.zip
* DONE (Category)
* installing to library 'C:/Users/biocbuild/bbs-3.12-bioc/R/library'
package 'Category' successfully unpacked and MD5 sums checked