Back to Multiple platform build/check report for BioC 3.12
ABCDEFGHIJKLMNO[P]QRSTUVWXYZ

Multiple platform build/check report for BioC 3.12

Results for Prize

This page was generated on 2020-11-24 11:52:45 -0500 (Tue, 24 Nov 2020).

Package 1385/1974HostnameOS / ArchINSTALLBUILDCHECKBUILD BIN
Prize 1.20.0
Daryanaz Dargahi
Snapshot Date: 2020-11-23 14:42:42 -0500 (Mon, 23 Nov 2020)
URL: https://git.bioconductor.org/packages/Prize
Branch: RELEASE_3_12
Last Commit: 278a85d
Last Changed Date: 2020-10-27 11:06:15 -0500 (Tue, 27 Oct 2020)
malbec1 Linux (Ubuntu 18.04.4 LTS) / x86_64  OK  OK  ERROR 
nebbiolo1 Linux (Ubuntu 20.04.1 LTS) / x86_64  OK  OK  ERROR 
tokay1 Windows Server 2012 R2 Standard / x64  OK  OK  ERROR  OK 
merida1 macOS 10.14.6 Mojave / x86_64  OK  OK  ERROR  OK