Back to Multiple platform build/check report for BioC 3.12
A[B]CDEFGHIJKLMNOPQRSTUVWXYZ

BUILD BIN report for BiocDockerManager on merida1

This page was generated on 2020-08-10 12:46:11 -0400 (Mon, 10 Aug 2020).

TO THE DEVELOPERS/MAINTAINERS OF THE BiocDockerManager PACKAGE: Please make sure to use the following settings in order to reproduce any error or warning you see on this page.
Package 150/1882HostnameOS / ArchINSTALLBUILDCHECKBUILD BIN
BiocDockerManager 1.1.2
Maintainer
Snapshot Date: 2020-08-09 14:51:29 -0400 (Sun, 09 Aug 2020)
URL: https://git.bioconductor.org/packages/BiocDockerManager
Branch: master
Last Commit: c1c99f1
Last Changed Date: 2020-07-01 11:30:36 -0400 (Wed, 01 Jul 2020)
malbec1 Linux (Ubuntu 18.04.4 LTS) / x86_64  OK  OK  OK UNNEEDED, same version exists in internal repository
nebbiolo1 Linux (Ubuntu 20.04.1 LTS) / x86_64  OK  OK  OK 
tokay1 Windows Server 2012 R2 Standard / x64  OK  OK  OK  OK UNNEEDED, same version exists in internal repository
merida1 macOS 10.14.6 Mojave / x86_64  OK  OK  OK [ OK ]UNNEEDED, same version exists in internal repository

Summary

Package: BiocDockerManager
Version: 1.1.2
Command: rm -rf BiocDockerManager.buildbin-libdir && mkdir BiocDockerManager.buildbin-libdir && /Users/biocbuild/BBS/utils/build-universal.sh BiocDockerManager_1.1.2.tar.gz /Library/Frameworks/R.framework/Versions/Current/Resources/bin/R BiocDockerManager.buildbin-libdir
StartedAt: 2020-08-10 07:59:20 -0400 (Mon, 10 Aug 2020)
EndedAt: 2020-08-10 08:00:35 -0400 (Mon, 10 Aug 2020)
EllapsedTime: 74.6 seconds
RetCode: 0
Status:  OK 
PackageFile: BiocDockerManager_1.1.2.tgz
PackageFileSize: 262.5 KiB

Command output

##############################################################################
##############################################################################
###
### Running command:
###
###   rm -rf BiocDockerManager.buildbin-libdir && mkdir BiocDockerManager.buildbin-libdir && /Users/biocbuild/BBS/utils/build-universal.sh BiocDockerManager_1.1.2.tar.gz /Library/Frameworks/R.framework/Versions/Current/Resources/bin/R BiocDockerManager.buildbin-libdir
###
##############################################################################
##############################################################################


>>>>>>> 
>>>>>>> INSTALLATION WITH 'R CMD INSTALL --preclean --no-multiarch --library=BiocDockerManager.buildbin-libdir BiocDockerManager_1.1.2.tar.gz'
>>>>>>> 

* installing *source* package ‘BiocDockerManager’ ...
** using staged installation
** R
** inst
** byte-compile and prepare package for lazy loading
** help
*** installing help indices
** building package indices
** installing vignettes
** testing if installed package can be loaded from temporary location
** testing if installed package can be loaded from final location
** testing if installed package keeps a record of temporary installation path
* DONE (BiocDockerManager)