This page was generated on 2021-01-13 11:50:32 -0500 (Wed, 13 Jan 2021).
DEXSeq 1.36.0 Alejandro Reyes
Snapshot Date: 2021-01-12 14:40:26 -0500 (Tue, 12 Jan 2021) |
URL: https://git.bioconductor.org/packages/DEXSeq |
Branch: RELEASE_3_12 |
Last Commit: f0a361a |
Last Changed Date: 2020-10-27 10:41:49 -0500 (Tue, 27 Oct 2020) |
| malbec1 | Linux (Ubuntu 18.04.5 LTS) / x86_64 | OK | OK | OK | |  |
nebbiolo1 | Linux (Ubuntu 20.04.1 LTS) / x86_64 | OK | OK | OK | | |
tokay1 | Windows Server 2012 R2 Standard / x64 | OK | OK | OK | OK |  |
merida1 | macOS 10.14.6 Mojave / x86_64 | OK | OK | OK | OK |  |