Back to Multiple platform build/check report for BioC 3.12 |
|
This page was generated on 2021-05-06 12:33:14 -0400 (Thu, 06 May 2021).
To the developers/maintainers of the Rgraphviz package: Please make sure to use the following settings in order to reproduce any error or warning you see on this page. |
Package 1517/1974 | Hostname | OS / Arch | INSTALL | BUILD | CHECK | BUILD BIN | ||||||||
Rgraphviz 2.34.0 (landing page) Kasper Daniel Hansen
| malbec1 | Linux (Ubuntu 18.04.5 LTS) / x86_64 | OK | OK | WARNINGS | |||||||||
tokay1 | Windows Server 2012 R2 Standard / x64 | OK | OK | OK | OK | |||||||||
merida1 | macOS 10.14.6 Mojave / x86_64 | OK | OK | WARNINGS | OK | |||||||||
Package: Rgraphviz |
Version: 2.34.0 |
Command: chmod a+r Rgraphviz -R && C:\Users\biocbuild\bbs-3.12-bioc\R\bin\R.exe CMD build --keep-empty-dirs --no-resave-data Rgraphviz |
StartedAt: 2021-05-05 23:06:44 -0400 (Wed, 05 May 2021) |
EndedAt: 2021-05-05 23:08:04 -0400 (Wed, 05 May 2021) |
EllapsedTime: 80.1 seconds |
RetCode: 0 |
Status: OK |
PackageFile: Rgraphviz_2.34.0.tar.gz |
PackageFileSize: 7.106 MiB |
############################################################################## ############################################################################## ### ### Running command: ### ### chmod a+r Rgraphviz -R && C:\Users\biocbuild\bbs-3.12-bioc\R\bin\R.exe CMD build --keep-empty-dirs --no-resave-data Rgraphviz ### ############################################################################## ############################################################################## * checking for file 'Rgraphviz/DESCRIPTION' ... OK * preparing 'Rgraphviz': * checking DESCRIPTION meta-information ... OK * cleaning src * running 'cleanup.win' * installing the package to build vignettes * creating vignettes ... OK * cleaning src * running 'cleanup.win' * checking for LF line-endings in source and make files and shell scripts * checking for empty or unneeded directories * building 'Rgraphviz_2.34.0.tar.gz' Warning: file 'Rgraphviz/cleanup' did not have execute permissions: corrected Warning: file 'Rgraphviz/configure' did not have execute permissions: corrected Warning: file 'Rgraphviz/src/graphviz/configure' did not have execute permissions: corrected Warning: file 'Rgraphviz/src/graphviz/libltdl/configure' did not have execute permissions: corrected