Back to Multiple platform build/check report for BioC 3.12
ABCDEF[G]HIJKLMNOPQRSTUVWXYZ

CHECK report for geneClassifiers on tokay1

This page was generated on 2021-01-19 11:55:20 -0500 (Tue, 19 Jan 2021).

TO THE DEVELOPERS/MAINTAINERS OF THE geneClassifiers PACKAGE: Please make sure to use the following settings in order to reproduce any error or warning you see on this page.
Package 685/1974HostnameOS / ArchINSTALLBUILDCHECKBUILD BIN
geneClassifiers 1.14.0
R Kuiper
Snapshot Date: 2021-01-18 14:42:24 -0500 (Mon, 18 Jan 2021)
URL: https://git.bioconductor.org/packages/geneClassifiers
Branch: RELEASE_3_12
Last Commit: 1267ca3
Last Changed Date: 2020-10-27 11:21:25 -0500 (Tue, 27 Oct 2020)
malbec1 Linux (Ubuntu 18.04.5 LTS) / x86_64  OK  OK  OK UNNEEDED, same version exists in internal repository
nebbiolo1 Linux (Ubuntu 20.04.1 LTS) / x86_64  OK  OK  OK 
tokay1 Windows Server 2012 R2 Standard / x64  OK  OK [ OK ] OK UNNEEDED, same version exists in internal repository
merida1 macOS 10.14.6 Mojave / x86_64  OK  OK  OK  OK UNNEEDED, same version exists in internal repository

Summary

Package: geneClassifiers
Version: 1.14.0
Command: C:\Users\biocbuild\bbs-3.12-bioc\R\bin\R.exe CMD check --force-multiarch --install=check:geneClassifiers.install-out.txt --library=C:\Users\biocbuild\bbs-3.12-bioc\R\library --no-vignettes --timings geneClassifiers_1.14.0.tar.gz
StartedAt: 2021-01-19 03:13:14 -0500 (Tue, 19 Jan 2021)
EndedAt: 2021-01-19 03:14:13 -0500 (Tue, 19 Jan 2021)
EllapsedTime: 58.4 seconds
RetCode: 0
Status:  OK  
CheckDir: geneClassifiers.Rcheck
Warnings: 0

Command output

##############################################################################
##############################################################################
###
### Running command:
###
###   C:\Users\biocbuild\bbs-3.12-bioc\R\bin\R.exe CMD check --force-multiarch --install=check:geneClassifiers.install-out.txt --library=C:\Users\biocbuild\bbs-3.12-bioc\R\library --no-vignettes --timings geneClassifiers_1.14.0.tar.gz
###
##############################################################################
##############################################################################


* using log directory 'C:/Users/biocbuild/bbs-3.12-bioc/meat/geneClassifiers.Rcheck'
* using R version 4.0.3 (2020-10-10)
* using platform: x86_64-w64-mingw32 (64-bit)
* using session charset: ISO8859-1
* using option '--no-vignettes'
* checking for file 'geneClassifiers/DESCRIPTION' ... OK
* checking extension type ... Package
* this is package 'geneClassifiers' version '1.14.0'
* package encoding: UTF-8
* checking package namespace information ... OK
* checking package dependencies ... OK
* checking if this is a source package ... OK
* checking if there is a namespace ... OK
* checking for hidden files and directories ... OK
* checking for portable file names ... OK
* checking whether package 'geneClassifiers' can be installed ... OK
* checking installed package size ... OK
* checking package directory ... OK
* checking 'build' directory ... OK
* checking DESCRIPTION meta-information ... OK
* checking top-level files ... OK
* checking for left-over files ... OK
* checking index information ... OK
* checking package subdirectories ... OK
* checking R files for non-ASCII characters ... OK
* checking R files for syntax errors ... OK
* loading checks for arch 'i386'
** checking whether the package can be loaded ... OK
** checking whether the package can be loaded with stated dependencies ... OK
** checking whether the package can be unloaded cleanly ... OK
** checking whether the namespace can be loaded with stated dependencies ... OK
** checking whether the namespace can be unloaded cleanly ... OK
* loading checks for arch 'x64'
** checking whether the package can be loaded ... OK
** checking whether the package can be loaded with stated dependencies ... OK
** checking whether the package can be unloaded cleanly ... OK
** checking whether the namespace can be loaded with stated dependencies ... OK
** checking whether the namespace can be unloaded cleanly ... OK
* checking dependencies in R code ... OK
* checking S3 generic/method consistency ... OK
* checking replacement functions ... OK
* checking foreign function calls ... OK
* checking R code for possible problems ... OK
* checking Rd files ... OK
* checking Rd metadata ... OK
* checking Rd cross-references ... OK
* checking for missing documentation entries ... OK
* checking for code/documentation mismatches ... OK
* checking Rd \usage sections ... OK
* checking Rd contents ... OK
* checking for unstated dependencies in examples ... OK
* checking contents of 'data' directory ... OK
* checking data for non-ASCII characters ... OK
* checking data for ASCII and uncompressed saves ... OK
* checking R/sysdata.rda ... OK
* checking files in 'vignettes' ... OK
* checking examples ...
** running examples for arch 'i386' ... OK
** running examples for arch 'x64' ... OK
* checking for unstated dependencies in 'tests' ... OK
* checking tests ...
** running tests for arch 'i386' ...
  Running 'testthat.R'
 OK
** running tests for arch 'x64' ...
  Running 'testthat.R'
 OK
* checking for unstated dependencies in vignettes ... OK
* checking package vignettes in 'inst/doc' ... OK
* checking running R code from vignettes ... SKIPPED
* checking re-building of vignette outputs ... SKIPPED
* checking PDF version of manual ... OK
* DONE

Status: OK


Installation output

geneClassifiers.Rcheck/00install.out

##############################################################################
##############################################################################
###
### Running command:
###
###   C:\cygwin\bin\curl.exe -O https://malbec1.bioconductor.org/BBS/3.12/bioc/src/contrib/geneClassifiers_1.14.0.tar.gz && rm -rf geneClassifiers.buildbin-libdir && mkdir geneClassifiers.buildbin-libdir && C:\Users\biocbuild\bbs-3.12-bioc\R\bin\R.exe CMD INSTALL --merge-multiarch --build --library=geneClassifiers.buildbin-libdir geneClassifiers_1.14.0.tar.gz && C:\Users\biocbuild\bbs-3.12-bioc\R\bin\R.exe CMD INSTALL geneClassifiers_1.14.0.zip && rm geneClassifiers_1.14.0.tar.gz geneClassifiers_1.14.0.zip
###
##############################################################################
##############################################################################


  % Total    % Received % Xferd  Average Speed   Time    Time     Time  Current
                                 Dload  Upload   Total   Spent    Left  Speed

  0     0    0     0    0     0      0      0 --:--:-- --:--:-- --:--:--     0
100 1282k  100 1282k    0     0  13.3M      0 --:--:-- --:--:-- --:--:-- 13.9M

install for i386

* installing *source* package 'geneClassifiers' ...
** using staged installation
** R
** data
*** moving datasets to lazyload DB
** byte-compile and prepare package for lazy loading
** help
*** installing help indices
  converting help for package 'geneClassifiers'
    finding HTML links ... done
    ClassifierParameters                    html  
    ClassifierResults                       html  
    FixedExpressionData                     html  
    bracket-methods                         html  
    dim-methods                             html  
    exampleMAS5                             html  
    finding level-2 HTML links ... done

    geneClassifiers-package                 html  
    getBatchCorrection-methods              html  
    getCitations-methods                    html  
    getClassifications-methods              html  
    getClassifier-methods                   html  
    getDecisionBoundaries-methods           html  
    getDescription-methods                  html  
    getEventChain-methods                   html  
    getIntercept-methods                    html  
    getMeans-methods                        html  
    getName-methods                         html  
    getNormalizationMethod-methods          html  
    getProbeNames-methods                   html  
    getScores-methods                       html  
    getSds-methods                          html  
    getTargetValue-methods                  html  
    getTrainingData-methods                 html  
    getWeightingType-methods                html  
    getWeights-methods                      html  
    runClassifier-methods                   html  
    setNormalizationMethod-methods          html  
    showClassifierList-methods              html  
** building package indices
** installing vignettes
** testing if installed package can be loaded from temporary location
** testing if installed package can be loaded from final location
** testing if installed package keeps a record of temporary installation path

install for x64

* installing *source* package 'geneClassifiers' ...
** testing if installed package can be loaded
* MD5 sums
packaged installation of 'geneClassifiers' as geneClassifiers_1.14.0.zip
* DONE (geneClassifiers)
* installing to library 'C:/Users/biocbuild/bbs-3.12-bioc/R/library'
package 'geneClassifiers' successfully unpacked and MD5 sums checked

Tests output

geneClassifiers.Rcheck/tests_i386/testthat.Rout


R version 4.0.3 (2020-10-10) -- "Bunny-Wunnies Freak Out"
Copyright (C) 2020 The R Foundation for Statistical Computing
Platform: i386-w64-mingw32/i386 (32-bit)

R is free software and comes with ABSOLUTELY NO WARRANTY.
You are welcome to redistribute it under certain conditions.
Type 'license()' or 'licence()' for distribution details.

R is a collaborative project with many contributors.
Type 'contributors()' for more information and
'citation()' on how to cite R or R packages in publications.

Type 'demo()' for some demos, 'help()' for on-line help, or
'help.start()' for an HTML browser interface to help.
Type 'q()' to quit R.

> library(testthat)
> library(geneClassifiers)
> 
> test_check("geneClassifiers")
[ FAIL 0 | WARN 0 | SKIP 0 | PASS 191 ]
> 
> proc.time()
   user  system elapsed 
   4.68    0.15    4.82 

geneClassifiers.Rcheck/tests_x64/testthat.Rout


R version 4.0.3 (2020-10-10) -- "Bunny-Wunnies Freak Out"
Copyright (C) 2020 The R Foundation for Statistical Computing
Platform: x86_64-w64-mingw32/x64 (64-bit)

R is free software and comes with ABSOLUTELY NO WARRANTY.
You are welcome to redistribute it under certain conditions.
Type 'license()' or 'licence()' for distribution details.

R is a collaborative project with many contributors.
Type 'contributors()' for more information and
'citation()' on how to cite R or R packages in publications.

Type 'demo()' for some demos, 'help()' for on-line help, or
'help.start()' for an HTML browser interface to help.
Type 'q()' to quit R.

> library(testthat)
> library(geneClassifiers)
> 
> test_check("geneClassifiers")
[ FAIL 0 | WARN 0 | SKIP 0 | PASS 191 ]
> 
> proc.time()
   user  system elapsed 
   5.57    0.12    5.68 

Example timings

geneClassifiers.Rcheck/examples_i386/geneClassifiers-Ex.timings

nameusersystemelapsed
bracket-methods0.030.000.03
dim-methods0.020.000.02
getBatchCorrection-methods0.240.000.24
getCitations-methods000
getClassifications-methods0.030.000.03
getClassifier-methods000
getDecisionBoundaries-methods000
getDescription-methods000
getEventChain-methods000
getIntercept-methods0.020.000.01
getMeans-methods000
getName-methods000
getNormalizationMethod-methods0.030.000.03
getProbeNames-methods0.010.000.02
getScores-methods0.020.000.02
getSds-methods000
getTargetValue-methods0.030.000.03
getTrainingData-methods0.030.000.03
getWeightingType-methods0.020.000.01
getWeights-methods000
runClassifier-methods0.030.000.03
setNormalizationMethod-methods0.010.000.02
showClassifierList-methods0.020.010.03

geneClassifiers.Rcheck/examples_x64/geneClassifiers-Ex.timings

nameusersystemelapsed
bracket-methods0.030.000.03
dim-methods0.020.000.02
getBatchCorrection-methods0.280.000.28
getCitations-methods000
getClassifications-methods0.020.000.02
getClassifier-methods000
getDecisionBoundaries-methods000
getDescription-methods000
getEventChain-methods000
getIntercept-methods000
getMeans-methods000
getName-methods000
getNormalizationMethod-methods0.050.000.05
getProbeNames-methods000
getScores-methods0.030.000.03
getSds-methods000
getTargetValue-methods0.020.000.01
getTrainingData-methods0.030.000.04
getWeightingType-methods0.010.000.01
getWeights-methods000
runClassifier-methods0.010.000.01
setNormalizationMethod-methods0.040.000.03
showClassifierList-methods0.010.000.02