Back to Multiple platform build/check report for BioC 3.12
[A]BCDEFGHIJKLMNOPQRSTUVWXYZ

BUILD BIN report for alpine on merida1

This page was generated on 2020-10-25 12:12:44 -0400 (Sun, 25 Oct 2020).

TO THE DEVELOPERS/MAINTAINERS OF THE alpine PACKAGE: Please make sure to use the following settings in order to reproduce any error or warning you see on this page.
Package 46/1974HostnameOS / ArchINSTALLBUILDCHECKBUILD BIN
alpine 1.15.0
Michael Love
Snapshot Date: 2020-10-24 14:40:19 -0400 (Sat, 24 Oct 2020)
URL: https://git.bioconductor.org/packages/alpine
Branch: master
Last Commit: ba310e3
Last Changed Date: 2020-04-27 15:00:57 -0400 (Mon, 27 Apr 2020)
malbec1 Linux (Ubuntu 18.04.4 LTS) / x86_64  OK  OK  OK UNNEEDED, same version exists in internal repository
nebbiolo1 Linux (Ubuntu 20.04.1 LTS) / x86_64  OK  OK  OK 
tokay1 Windows Server 2012 R2 Standard / x64  OK  OK  OK  OK UNNEEDED, same version exists in internal repository
riesling1 Windows Server 2019 Standard / x64  OK  OK  OK  OK 
merida1 macOS 10.14.6 Mojave / x86_64  OK  OK  OK [ OK ]UNNEEDED, same version exists in internal repository

Summary

Package: alpine
Version: 1.15.0
Command: rm -rf alpine.buildbin-libdir && mkdir alpine.buildbin-libdir && /Users/biocbuild/BBS/utils/build-universal.sh alpine_1.15.0.tar.gz /Library/Frameworks/R.framework/Versions/Current/Resources/bin/R alpine.buildbin-libdir
StartedAt: 2020-10-25 07:14:51 -0400 (Sun, 25 Oct 2020)
EndedAt: 2020-10-25 07:15:35 -0400 (Sun, 25 Oct 2020)
EllapsedTime: 44.2 seconds
RetCode: 0
Status:  OK 
PackageFile: alpine_1.15.0.tgz
PackageFileSize: 353.3 KiB

Command output

##############################################################################
##############################################################################
###
### Running command:
###
###   rm -rf alpine.buildbin-libdir && mkdir alpine.buildbin-libdir && /Users/biocbuild/BBS/utils/build-universal.sh alpine_1.15.0.tar.gz /Library/Frameworks/R.framework/Versions/Current/Resources/bin/R alpine.buildbin-libdir
###
##############################################################################
##############################################################################


>>>>>>> 
>>>>>>> INSTALLATION WITH 'R CMD INSTALL --preclean --no-multiarch --library=alpine.buildbin-libdir alpine_1.15.0.tar.gz'
>>>>>>> 

* installing *source* package ‘alpine’ ...
** using staged installation
** R
** data
** inst
** byte-compile and prepare package for lazy loading
** help
*** installing help indices
** building package indices
** installing vignettes
** testing if installed package can be loaded from temporary location
** testing if installed package can be loaded from final location
** testing if installed package keeps a record of temporary installation path
* DONE (alpine)