Back to Multiple platform build/check report for BioC 3.12
AB[C]DEFGHIJKLMNOPQRSTUVWXYZ

BUILD report for CausalR on tokay1

This page was generated on 2020-08-06 12:00:17 -0400 (Thu, 06 Aug 2020).

TO THE DEVELOPERS/MAINTAINERS OF THE CausalR PACKAGE: Please make sure to use the following settings in order to reproduce any error or warning you see on this page.
Package 230/1882HostnameOS / ArchINSTALLBUILDCHECKBUILD BIN
CausalR 1.21.0
Glyn Bradley , Steven Barrett
Snapshot Date: 2020-08-05 14:50:59 -0400 (Wed, 05 Aug 2020)
URL: https://git.bioconductor.org/packages/CausalR
Branch: master
Last Commit: bb5dc2b
Last Changed Date: 2020-04-27 14:49:15 -0400 (Mon, 27 Apr 2020)
malbec1 Linux (Ubuntu 18.04.4 LTS) / x86_64  OK  OK  OK UNNEEDED, same version exists in internal repository
tokay1 Windows Server 2012 R2 Standard / x64  OK [ OK ] OK  OK UNNEEDED, same version exists in internal repository
merida1 macOS 10.14.6 Mojave / x86_64  OK  OK  OK  OK UNNEEDED, same version exists in internal repository

Summary

Package: CausalR
Version: 1.21.0
Command: chmod a+r CausalR -R && C:\Users\biocbuild\bbs-3.12-bioc\R\bin\R.exe CMD build --keep-empty-dirs --no-resave-data CausalR
StartedAt: 2020-08-05 20:46:49 -0400 (Wed, 05 Aug 2020)
EndedAt: 2020-08-05 20:47:25 -0400 (Wed, 05 Aug 2020)
EllapsedTime: 35.5 seconds
RetCode: 0
Status:  OK  
PackageFile: CausalR_1.21.0.tar.gz
PackageFileSize: 564.2 KiB

Command output

##############################################################################
##############################################################################
###
### Running command:
###
###   chmod a+r CausalR -R && C:\Users\biocbuild\bbs-3.12-bioc\R\bin\R.exe CMD build --keep-empty-dirs --no-resave-data CausalR
###
##############################################################################
##############################################################################


* checking for file 'CausalR/DESCRIPTION' ... OK
* preparing 'CausalR':
* checking DESCRIPTION meta-information ... OK
* installing the package to build vignettes
* creating vignettes ... OK
* checking for LF line-endings in source and make files and shell scripts
* checking for empty or unneeded directories
* building 'CausalR_1.21.0.tar.gz'