Back to Multiple platform build/check report for BioC 3.12
[A]BCDEFGHIJKLMNOPQRSTUVWXYZ

INSTALL report for arrayMvout on malbec1

This page was generated on 2021-01-22 11:50:55 -0500 (Fri, 22 Jan 2021).

TO THE DEVELOPERS/MAINTAINERS OF THE arrayMvout PACKAGE: Please make sure to use the following settings in order to reproduce any error or warning you see on this page.
Package 83/1974HostnameOS / ArchINSTALLBUILDCHECKBUILD BIN
arrayMvout 1.48.0
V. Carey
Snapshot Date: 2021-01-21 14:42:12 -0500 (Thu, 21 Jan 2021)
URL: https://git.bioconductor.org/packages/arrayMvout
Branch: RELEASE_3_12
Last Commit: 3d9d8e4
Last Changed Date: 2020-10-27 10:34:44 -0500 (Tue, 27 Oct 2020)
malbec1 Linux (Ubuntu 18.04.5 LTS) / x86_64 [ OK ] OK  OK UNNEEDED, same version exists in internal repository
nebbiolo1 Linux (Ubuntu 20.04.1 LTS) / x86_64  OK  OK  OK 
tokay1 Windows Server 2012 R2 Standard / x64  OK  OK  OK  OK UNNEEDED, same version exists in internal repository
merida1 macOS 10.14.6 Mojave / x86_64  OK  OK  OK  OK UNNEEDED, same version exists in internal repository

Summary

Package: arrayMvout
Version: 1.48.0
Command: /home/biocbuild/bbs-3.12-bioc/R/bin/R CMD INSTALL arrayMvout
StartedAt: 2021-01-21 17:20:28 -0500 (Thu, 21 Jan 2021)
EndedAt: 2021-01-21 17:21:27 -0500 (Thu, 21 Jan 2021)
EllapsedTime: 58.8 seconds
RetCode: 0
Status:  OK 

Command output

##############################################################################
##############################################################################
###
### Running command:
###
###   /home/biocbuild/bbs-3.12-bioc/R/bin/R CMD INSTALL arrayMvout
###
##############################################################################
##############################################################################


* installing to library ‘/home/biocbuild/bbs-3.12-bioc/R/library’
* installing *source* package ‘arrayMvout’ ...
** using staged installation
** R
** data
** byte-compile and prepare package for lazy loading
No methods found in package ‘RSQLite’ for request: ‘dbListFields’ when loading ‘lumi’
** help
*** installing help indices
** building package indices
** installing vignettes
** testing if installed package can be loaded from temporary location
No methods found in package ‘RSQLite’ for request: ‘dbListFields’ when loading ‘lumi’
** testing if installed package can be loaded from final location
No methods found in package ‘RSQLite’ for request: ‘dbListFields’ when loading ‘lumi’
** testing if installed package keeps a record of temporary installation path
* DONE (arrayMvout)