Back to Multiple platform build/check report for BioC 3.12
AB[C]DEFGHIJKLMNOPQRSTUVWXYZ

BUILD report for ccfindR on merida1

This page was generated on 2020-08-13 11:57:45 -0400 (Thu, 13 Aug 2020).

TO THE DEVELOPERS/MAINTAINERS OF THE ccfindR PACKAGE: Please make sure to use the following settings in order to reproduce any error or warning you see on this page.
Package 233/1885HostnameOS / ArchINSTALLBUILDCHECKBUILD BIN
ccfindR 1.9.0
Jun Woo
Snapshot Date: 2020-08-12 14:52:00 -0400 (Wed, 12 Aug 2020)
URL: https://git.bioconductor.org/packages/ccfindR
Branch: master
Last Commit: c67da9a
Last Changed Date: 2020-04-27 15:16:20 -0400 (Mon, 27 Apr 2020)
malbec1 Linux (Ubuntu 18.04.4 LTS) / x86_64  OK  OK  OK UNNEEDED, same version exists in internal repository
nebbiolo1 Linux (Ubuntu 20.04.1 LTS) / x86_64  OK  OK  OK 
tokay1 Windows Server 2012 R2 Standard / x64  OK  OK  OK  OK UNNEEDED, same version exists in internal repository
merida1 macOS 10.14.6 Mojave / x86_64  OK [ OK ] OK  OK UNNEEDED, same version exists in internal repository

Summary

Package: ccfindR
Version: 1.9.0
Command: /Library/Frameworks/R.framework/Versions/Current/Resources/bin/R CMD build --keep-empty-dirs --no-resave-data ccfindR
StartedAt: 2020-08-12 20:59:37 -0400 (Wed, 12 Aug 2020)
EndedAt: 2020-08-12 21:04:02 -0400 (Wed, 12 Aug 2020)
EllapsedTime: 264.8 seconds
RetCode: 0
Status:  OK 
PackageFile: ccfindR_1.9.0.tar.gz
PackageFileSize: 700.8 KiB

Command output

##############################################################################
##############################################################################
###
### Running command:
###
###   /Library/Frameworks/R.framework/Versions/Current/Resources/bin/R CMD build --keep-empty-dirs --no-resave-data ccfindR
###
##############################################################################
##############################################################################


* checking for file ‘ccfindR/DESCRIPTION’ ... OK
* preparing ‘ccfindR’:
* checking DESCRIPTION meta-information ... OK
* cleaning src
* installing the package to process help pages
Loading required namespace: ccfindR
* saving partial Rd database
* creating vignettes ... OK
* cleaning src
* checking for LF line-endings in source and make files and shell scripts
* checking for empty or unneeded directories
* building ‘ccfindR_1.9.0.tar.gz’