Back to Multiple platform build/check report for BioC 3.12
AB[C]DEFGHIJKLMNOPQRSTUVWXYZ

BUILD BIN report for ChIPexoQual on merida1

This page was generated on 2020-08-11 11:59:59 -0400 (Tue, 11 Aug 2020).

TO THE DEVELOPERS/MAINTAINERS OF THE ChIPexoQual PACKAGE: Please make sure to use the following settings in order to reproduce any error or warning you see on this page.
Package 273/1885HostnameOS / ArchINSTALLBUILDCHECKBUILD BIN
ChIPexoQual 1.13.0
Rene Welch
Snapshot Date: 2020-08-10 14:50:56 -0400 (Mon, 10 Aug 2020)
URL: https://git.bioconductor.org/packages/ChIPexoQual
Branch: master
Last Commit: ed85e18
Last Changed Date: 2020-04-27 15:04:47 -0400 (Mon, 27 Apr 2020)
malbec1 Linux (Ubuntu 18.04.4 LTS) / x86_64  OK  OK  OK UNNEEDED, same version exists in internal repository
nebbiolo1 Linux (Ubuntu 20.04.1 LTS) / x86_64  OK  OK  NA 
tokay1 Windows Server 2012 R2 Standard / x64  OK  OK  OK  OK UNNEEDED, same version exists in internal repository
merida1 macOS 10.14.6 Mojave / x86_64  OK  OK  OK [ OK ]UNNEEDED, same version exists in internal repository

Summary

Package: ChIPexoQual
Version: 1.13.0
Command: rm -rf ChIPexoQual.buildbin-libdir && mkdir ChIPexoQual.buildbin-libdir && /Users/biocbuild/BBS/utils/build-universal.sh ChIPexoQual_1.13.0.tar.gz /Library/Frameworks/R.framework/Versions/Current/Resources/bin/R ChIPexoQual.buildbin-libdir
StartedAt: 2020-08-11 07:37:24 -0400 (Tue, 11 Aug 2020)
EndedAt: 2020-08-11 07:38:28 -0400 (Tue, 11 Aug 2020)
EllapsedTime: 64.6 seconds
RetCode: 0
Status:  OK 
PackageFile: ChIPexoQual_1.13.0.tgz
PackageFileSize: 2.134 MiB

Command output

##############################################################################
##############################################################################
###
### Running command:
###
###   rm -rf ChIPexoQual.buildbin-libdir && mkdir ChIPexoQual.buildbin-libdir && /Users/biocbuild/BBS/utils/build-universal.sh ChIPexoQual_1.13.0.tar.gz /Library/Frameworks/R.framework/Versions/Current/Resources/bin/R ChIPexoQual.buildbin-libdir
###
##############################################################################
##############################################################################


>>>>>>> 
>>>>>>> INSTALLATION WITH 'R CMD INSTALL --preclean --no-multiarch --library=ChIPexoQual.buildbin-libdir ChIPexoQual_1.13.0.tar.gz'
>>>>>>> 

* installing *source* package ‘ChIPexoQual’ ...
** using staged installation
** R
** data
** inst
** byte-compile and prepare package for lazy loading
** help
*** installing help indices
** building package indices
** installing vignettes
** testing if installed package can be loaded from temporary location
** testing if installed package can be loaded from final location
** testing if installed package keeps a record of temporary installation path
* DONE (ChIPexoQual)