Back to Multiple platform build/check report for BioC 3.12
A[B]CDEFGHIJKLMNOPQRSTUVWXYZ

BUILD report for BrainStars on merida1

This page was generated on 2020-10-14 11:22:34 -0400 (Wed, 14 Oct 2020).

TO THE DEVELOPERS/MAINTAINERS OF THE BrainStars PACKAGE: Please make sure to use the following settings in order to reproduce any error or warning you see on this page.
Package 197/1930HostnameOS / ArchINSTALLBUILDCHECKBUILD BIN
BrainStars 1.33.0
Itoshi NIKAIDO
Snapshot Date: 2020-10-13 14:40:34 -0400 (Tue, 13 Oct 2020)
URL: https://git.bioconductor.org/packages/BrainStars
Branch: master
Last Commit: e0111ee
Last Changed Date: 2020-04-27 14:29:00 -0400 (Mon, 27 Apr 2020)
malbec1 Linux (Ubuntu 18.04.4 LTS) / x86_64  OK  OK  OK UNNEEDED, same version exists in internal repository
nebbiolo1 Linux (Ubuntu 20.04.1 LTS) / x86_64  OK  OK  OK 
tokay1 Windows Server 2012 R2 Standard / x64  OK  OK  OK  OK UNNEEDED, same version exists in internal repository
riesling1 Windows Server 2019 Standard / x64  OK  OK  OK  OK 
merida1 macOS 10.14.6 Mojave / x86_64  OK [ OK ] OK  OK UNNEEDED, same version exists in internal repository

Summary

Package: BrainStars
Version: 1.33.0
Command: /Library/Frameworks/R.framework/Versions/Current/Resources/bin/R CMD build --keep-empty-dirs --no-resave-data BrainStars
StartedAt: 2020-10-13 18:50:43 -0400 (Tue, 13 Oct 2020)
EndedAt: 2020-10-13 18:51:24 -0400 (Tue, 13 Oct 2020)
EllapsedTime: 40.7 seconds
RetCode: 0
Status:  OK 
PackageFile: BrainStars_1.33.0.tar.gz
PackageFileSize: 560.4 KiB

Command output

##############################################################################
##############################################################################
###
### Running command:
###
###   /Library/Frameworks/R.framework/Versions/Current/Resources/bin/R CMD build --keep-empty-dirs --no-resave-data BrainStars
###
##############################################################################
##############################################################################


* checking for file ‘BrainStars/DESCRIPTION’ ... OK
* preparing ‘BrainStars’:
* checking DESCRIPTION meta-information ... OK
* installing the package to build vignettes
* creating vignettes ... OK
* checking for LF line-endings in source and make files and shell scripts
* checking for empty or unneeded directories
* building ‘BrainStars_1.33.0.tar.gz’