Back to Multiple platform build/check report for BioC 3.12
AB[C]DEFGHIJKLMNOPQRSTUVWXYZ

BUILD report for casper on tokay1

This page was generated on 2020-08-11 11:39:23 -0400 (Tue, 11 Aug 2020).

TO THE DEVELOPERS/MAINTAINERS OF THE casper PACKAGE: Please make sure to use the following settings in order to reproduce any error or warning you see on this page.
Package 226/1885HostnameOS / ArchINSTALLBUILDCHECKBUILD BIN
casper 2.23.0
David Rossell
Snapshot Date: 2020-08-10 14:50:56 -0400 (Mon, 10 Aug 2020)
URL: https://git.bioconductor.org/packages/casper
Branch: master
Last Commit: 54a4ecc
Last Changed Date: 2020-04-27 14:32:47 -0400 (Mon, 27 Apr 2020)
malbec1 Linux (Ubuntu 18.04.4 LTS) / x86_64  OK  OK  OK UNNEEDED, same version exists in internal repository
nebbiolo1 Linux (Ubuntu 20.04.1 LTS) / x86_64  OK  OK  NA 
tokay1 Windows Server 2012 R2 Standard / x64  OK [ OK ] WARNINGS  OK UNNEEDED, same version exists in internal repository
merida1 macOS 10.14.6 Mojave / x86_64  OK  OK  WARNINGS  OK UNNEEDED, same version exists in internal repository

Summary

Package: casper
Version: 2.23.0
Command: chmod a+r casper -R && C:\Users\biocbuild\bbs-3.12-bioc\R\bin\R.exe CMD build --keep-empty-dirs --no-resave-data casper
StartedAt: 2020-08-10 19:53:54 -0400 (Mon, 10 Aug 2020)
EndedAt: 2020-08-10 19:55:29 -0400 (Mon, 10 Aug 2020)
EllapsedTime: 95.6 seconds
RetCode: 0
Status:  OK  
PackageFile: casper_2.23.0.tar.gz
PackageFileSize: 2.513 MiB

Command output

##############################################################################
##############################################################################
###
### Running command:
###
###   chmod a+r casper -R && C:\Users\biocbuild\bbs-3.12-bioc\R\bin\R.exe CMD build --keep-empty-dirs --no-resave-data casper
###
##############################################################################
##############################################################################


* checking for file 'casper/DESCRIPTION' ... OK
* preparing 'casper':
* checking DESCRIPTION meta-information ... OK
* cleaning src
* installing the package to build vignettes
* creating vignettes ... OK
* cleaning src
* checking for LF line-endings in source and make files and shell scripts
* checking for empty or unneeded directories
* looking to see if a 'data/datalist' file should be added
* building 'casper_2.23.0.tar.gz'