Back to Multiple platform build/check report for BioC 3.12
A[B]CDEFGHIJKLMNOPQRSTUVWXYZ

BUILD BIN report for BrainSABER on merida1

This page was generated on 2020-10-12 12:18:31 -0400 (Mon, 12 Oct 2020).

TO THE DEVELOPERS/MAINTAINERS OF THE BrainSABER PACKAGE: Please make sure to use the following settings in order to reproduce any error or warning you see on this page.
Package 196/1930HostnameOS / ArchINSTALLBUILDCHECKBUILD BIN
BrainSABER 0.99.4
USD Biomedical Engineering
Snapshot Date: 2020-10-11 14:41:46 -0400 (Sun, 11 Oct 2020)
URL: https://git.bioconductor.org/packages/BrainSABER
Branch: master
Last Commit: 4d2527c
Last Changed Date: 2020-04-20 22:30:39 -0400 (Mon, 20 Apr 2020)
malbec1 Linux (Ubuntu 18.04.4 LTS) / x86_64  OK  OK  OK UNNEEDED, same version exists in internal repository
nebbiolo1 Linux (Ubuntu 20.04.1 LTS) / x86_64  OK  OK  OK 
tokay1 Windows Server 2012 R2 Standard / x64  OK  OK  OK  OK UNNEEDED, same version exists in internal repository
riesling1 Windows Server 2019 Standard / x64  OK  OK  OK  OK 
merida1 macOS 10.14.6 Mojave / x86_64  OK  OK  OK [ OK ]UNNEEDED, same version exists in internal repository

Summary

Package: BrainSABER
Version: 0.99.4
Command: rm -rf BrainSABER.buildbin-libdir && mkdir BrainSABER.buildbin-libdir && /Users/biocbuild/BBS/utils/build-universal.sh BrainSABER_0.99.4.tar.gz /Library/Frameworks/R.framework/Versions/Current/Resources/bin/R BrainSABER.buildbin-libdir
StartedAt: 2020-10-12 10:24:29 -0400 (Mon, 12 Oct 2020)
EndedAt: 2020-10-12 10:25:30 -0400 (Mon, 12 Oct 2020)
EllapsedTime: 60.8 seconds
RetCode: 0
Status:  OK 
PackageFile: BrainSABER_0.99.4.tgz
PackageFileSize: 1.274 MiB

Command output

##############################################################################
##############################################################################
###
### Running command:
###
###   rm -rf BrainSABER.buildbin-libdir && mkdir BrainSABER.buildbin-libdir && /Users/biocbuild/BBS/utils/build-universal.sh BrainSABER_0.99.4.tar.gz /Library/Frameworks/R.framework/Versions/Current/Resources/bin/R BrainSABER.buildbin-libdir
###
##############################################################################
##############################################################################


>>>>>>> 
>>>>>>> INSTALLATION WITH 'R CMD INSTALL --preclean --no-multiarch --library=BrainSABER.buildbin-libdir BrainSABER_0.99.4.tar.gz'
>>>>>>> 

* installing *source* package ‘BrainSABER’ ...
** using staged installation
** R
** inst
** byte-compile and prepare package for lazy loading
** help
*** installing help indices
** building package indices
** installing vignettes
** testing if installed package can be loaded from temporary location
** testing if installed package can be loaded from final location
** testing if installed package keeps a record of temporary installation path
* DONE (BrainSABER)