Back to Multiple platform build/check report for BioC 3.12
ABCDEFG[H]IJKLMNOPQRSTUVWXYZ

BUILD report for hiAnnotator on tokay1

This page was generated on 2020-11-23 12:20:53 -0500 (Mon, 23 Nov 2020).

TO THE DEVELOPERS/MAINTAINERS OF THE hiAnnotator PACKAGE: Please make sure to use the following settings in order to reproduce any error or warning you see on this page.
Package 827/1974HostnameOS / ArchINSTALLBUILDCHECKBUILD BIN
hiAnnotator 1.24.0
Nirav V Malani
Snapshot Date: 2020-11-22 14:42:09 -0500 (Sun, 22 Nov 2020)
URL: https://git.bioconductor.org/packages/hiAnnotator
Branch: RELEASE_3_12
Last Commit: ab43fdd
Last Changed Date: 2020-10-27 10:56:46 -0500 (Tue, 27 Oct 2020)
malbec1 Linux (Ubuntu 18.04.4 LTS) / x86_64  OK  OK  OK UNNEEDED, same version exists in internal repository
nebbiolo1 Linux (Ubuntu 20.04.1 LTS) / x86_64  OK  OK  OK 
tokay1 Windows Server 2012 R2 Standard / x64  OK [ OK ] WARNINGS  OK UNNEEDED, same version exists in internal repository
merida1 macOS 10.14.6 Mojave / x86_64  OK  OK  OK  OK UNNEEDED, same version exists in internal repository

Summary

Package: hiAnnotator
Version: 1.24.0
Command: chmod a+r hiAnnotator -R && C:\Users\biocbuild\bbs-3.12-bioc\R\bin\R.exe CMD build --keep-empty-dirs --no-resave-data hiAnnotator
StartedAt: 2020-11-22 21:23:09 -0500 (Sun, 22 Nov 2020)
EndedAt: 2020-11-22 21:24:45 -0500 (Sun, 22 Nov 2020)
EllapsedTime: 96.9 seconds
RetCode: 0
Status:  OK  
PackageFile: hiAnnotator_1.24.0.tar.gz
PackageFileSize: 693.7 KiB

Command output

##############################################################################
##############################################################################
###
### Running command:
###
###   chmod a+r hiAnnotator -R && C:\Users\biocbuild\bbs-3.12-bioc\R\bin\R.exe CMD build --keep-empty-dirs --no-resave-data hiAnnotator
###
##############################################################################
##############################################################################


* checking for file 'hiAnnotator/DESCRIPTION' ... OK
* preparing 'hiAnnotator':
* checking DESCRIPTION meta-information ... OK
* installing the package to build vignettes
* creating vignettes ... OK
* checking for LF line-endings in source and make files and shell scripts
* checking for empty or unneeded directories
* looking to see if a 'data/datalist' file should be added
* building 'hiAnnotator_1.24.0.tar.gz'