Back to Multiple platform build/check report for BioC 3.12
[A]BCDEFGHIJKLMNOPQRSTUVWXYZ

INSTALL report for ASSET on tokay1

This page was generated on 2020-08-09 12:02:52 -0400 (Sun, 09 Aug 2020).

TO THE DEVELOPERS/MAINTAINERS OF THE ASSET PACKAGE: Please make sure to use the following settings in order to reproduce any error or warning you see on this page.
Package 91/1882HostnameOS / ArchINSTALLBUILDCHECKBUILD BIN
ASSET 2.7.0
Samsiddhi Bhattacharjee
Snapshot Date: 2020-08-08 14:51:01 -0400 (Sat, 08 Aug 2020)
URL: https://git.bioconductor.org/packages/ASSET
Branch: master
Last Commit: 86da514
Last Changed Date: 2020-04-27 14:36:01 -0400 (Mon, 27 Apr 2020)
malbec1 Linux (Ubuntu 18.04.4 LTS) / x86_64  OK  OK  WARNINGS UNNEEDED, same version exists in internal repository
nebbiolo1 Linux (Ubuntu 20.04.1 LTS) / x86_64  OK  OK  WARNINGS 
tokay1 Windows Server 2012 R2 Standard / x64 [ OK ] OK  WARNINGS  OK UNNEEDED, same version exists in internal repository
merida1 macOS 10.14.6 Mojave / x86_64  OK  OK  WARNINGS  OK UNNEEDED, same version exists in internal repository

Summary

Package: ASSET
Version: 2.7.0
Command: C:\cygwin\bin\curl.exe -O https://malbec1.bioconductor.org/BBS/3.12/bioc/src/contrib/ASSET_2.7.0.tar.gz && rm -rf ASSET.buildbin-libdir && mkdir ASSET.buildbin-libdir && C:\Users\biocbuild\bbs-3.12-bioc\R\bin\R.exe CMD INSTALL --merge-multiarch --build --library=ASSET.buildbin-libdir ASSET_2.7.0.tar.gz && C:\Users\biocbuild\bbs-3.12-bioc\R\bin\R.exe CMD INSTALL ASSET_2.7.0.zip && rm ASSET_2.7.0.tar.gz ASSET_2.7.0.zip
StartedAt: 2020-08-08 16:50:54 -0400 (Sat, 08 Aug 2020)
EndedAt: 2020-08-08 16:51:28 -0400 (Sat, 08 Aug 2020)
EllapsedTime: 33.7 seconds
RetCode: 0
Status:  OK  

Command output

##############################################################################
##############################################################################
###
### Running command:
###
###   C:\cygwin\bin\curl.exe -O https://malbec1.bioconductor.org/BBS/3.12/bioc/src/contrib/ASSET_2.7.0.tar.gz && rm -rf ASSET.buildbin-libdir && mkdir ASSET.buildbin-libdir && C:\Users\biocbuild\bbs-3.12-bioc\R\bin\R.exe CMD INSTALL --merge-multiarch --build --library=ASSET.buildbin-libdir ASSET_2.7.0.tar.gz && C:\Users\biocbuild\bbs-3.12-bioc\R\bin\R.exe CMD INSTALL ASSET_2.7.0.zip && rm ASSET_2.7.0.tar.gz ASSET_2.7.0.zip
###
##############################################################################
##############################################################################


  % Total    % Received % Xferd  Average Speed   Time    Time     Time  Current
                                 Dload  Upload   Total   Spent    Left  Speed

  0     0    0     0    0     0      0      0 --:--:-- --:--:-- --:--:--     0
100  126k  100  126k    0     0  5208k      0 --:--:-- --:--:-- --:--:-- 6018k

install for i386

* installing *source* package 'ASSET' ...
** using staged installation
** R
** data
** inst
** byte-compile and prepare package for lazy loading
** help
*** installing help indices
  converting help for package 'ASSET'
    finding HTML links ... done
    ASSET                                   html  
    ex_trait                                html  
    ex_types                                html  
    h.forestPlot                            html  
    h.summary                               html  
    h.traits                                html  
    finding level-2 HTML links ... done

Rd warning: C:/Users/biocbuild/bbs-3.12-bioc/tmpdir/Rtmp6hkNAf/R.INSTALLd5c18522db4/ASSET/man/h.traits.Rd:41: missing link 'p.tube'
    h.types                                 html  
Rd warning: C:/Users/biocbuild/bbs-3.12-bioc/tmpdir/Rtmp6hkNAf/R.INSTALLd5c18522db4/ASSET/man/h.types.Rd:38: missing link 'p.tube'
    p.dlm                                   html  
    z.max                                   html  
** building package indices
** installing vignettes
** testing if installed package can be loaded from temporary location
** testing if installed package can be loaded from final location
** testing if installed package keeps a record of temporary installation path

install for x64

* installing *source* package 'ASSET' ...
** testing if installed package can be loaded
* MD5 sums
packaged installation of 'ASSET' as ASSET_2.7.0.zip
* DONE (ASSET)
* installing to library 'C:/Users/biocbuild/bbs-3.12-bioc/R/library'
package 'ASSET' successfully unpacked and MD5 sums checked