Back to Multiple platform build/check report for BioC 3.12
ABCDEFGHIJKLM[N]OPQRSTUVWXYZ

Multiple platform build/check report for BioC 3.12

Results for NTW

This page was generated on 2021-01-24 11:48:56 -0500 (Sun, 24 Jan 2021).

Package 1237/1974HostnameOS / ArchINSTALLBUILDCHECKBUILD BIN
NTW 1.40.0
Yuanhua Liu
Snapshot Date: 2021-01-23 14:40:16 -0500 (Sat, 23 Jan 2021)
URL: https://git.bioconductor.org/packages/NTW
Branch: RELEASE_3_12
Last Commit: 82f22e3
Last Changed Date: 2020-10-27 10:38:32 -0500 (Tue, 27 Oct 2020)
malbec1 Linux (Ubuntu 18.04.5 LTS) / x86_64  OK  OK  WARNINGS UNNEEDED, same version exists in internal repository
nebbiolo1 Linux (Ubuntu 20.04.1 LTS) / x86_64  OK  OK  WARNINGS 
tokay1 Windows Server 2012 R2 Standard / x64  OK  OK  WARNINGS  OK UNNEEDED, same version exists in internal repository
merida1 macOS 10.14.6 Mojave / x86_64  OK  OK  WARNINGS  OK UNNEEDED, same version exists in internal repository