Back to Multiple platform build/check report for BioC 3.12
A[B]CDEFGHIJKLMNOPQRSTUVWXYZ

BUILD BIN report for BUMHMM on merida1

This page was generated on 2020-10-12 12:16:47 -0400 (Mon, 12 Oct 2020).

TO THE DEVELOPERS/MAINTAINERS OF THE BUMHMM PACKAGE: Please make sure to use the following settings in order to reproduce any error or warning you see on this page.
Package 210/1930HostnameOS / ArchINSTALLBUILDCHECKBUILD BIN
BUMHMM 1.13.0
Alina Selega
Snapshot Date: 2020-10-11 14:41:46 -0400 (Sun, 11 Oct 2020)
URL: https://git.bioconductor.org/packages/BUMHMM
Branch: master
Last Commit: 97962c1
Last Changed Date: 2020-09-18 12:27:59 -0400 (Fri, 18 Sep 2020)
malbec1 Linux (Ubuntu 18.04.4 LTS) / x86_64  OK  OK  OK UNNEEDED, same version exists in internal repository
nebbiolo1 Linux (Ubuntu 20.04.1 LTS) / x86_64  OK  OK  OK 
tokay1 Windows Server 2012 R2 Standard / x64  OK  OK  OK  OK UNNEEDED, same version exists in internal repository
riesling1 Windows Server 2019 Standard / x64  OK  OK  OK  OK 
merida1 macOS 10.14.6 Mojave / x86_64  OK  OK  OK [ OK ]UNNEEDED, same version exists in internal repository

Summary

Package: BUMHMM
Version: 1.13.0
Command: rm -rf BUMHMM.buildbin-libdir && mkdir BUMHMM.buildbin-libdir && /Users/biocbuild/BBS/utils/build-universal.sh BUMHMM_1.13.0.tar.gz /Library/Frameworks/R.framework/Versions/Current/Resources/bin/R BUMHMM.buildbin-libdir
StartedAt: 2020-10-12 09:31:21 -0400 (Mon, 12 Oct 2020)
EndedAt: 2020-10-12 09:32:23 -0400 (Mon, 12 Oct 2020)
EllapsedTime: 62.0 seconds
RetCode: 0
Status:  OK 
PackageFile: BUMHMM_1.13.0.tgz
PackageFileSize: 887.6 KiB

Command output

##############################################################################
##############################################################################
###
### Running command:
###
###   rm -rf BUMHMM.buildbin-libdir && mkdir BUMHMM.buildbin-libdir && /Users/biocbuild/BBS/utils/build-universal.sh BUMHMM_1.13.0.tar.gz /Library/Frameworks/R.framework/Versions/Current/Resources/bin/R BUMHMM.buildbin-libdir
###
##############################################################################
##############################################################################


>>>>>>> 
>>>>>>> INSTALLATION WITH 'R CMD INSTALL --preclean --no-multiarch --library=BUMHMM.buildbin-libdir BUMHMM_1.13.0.tar.gz'
>>>>>>> 

* installing *source* package ‘BUMHMM’ ...
** using staged installation
** R
** data
*** moving datasets to lazyload DB
** inst
** byte-compile and prepare package for lazy loading
** help
*** installing help indices
** building package indices
** installing vignettes
** testing if installed package can be loaded from temporary location
** testing if installed package can be loaded from final location
** testing if installed package keeps a record of temporary installation path
* DONE (BUMHMM)