Back to Multiple platform build/check report for BioC 3.12
A[B]CDEFGHIJKLMNOPQRSTUVWXYZ

BUILD report for brendaDb on malbec1

This page was generated on 2020-08-11 11:26:33 -0400 (Tue, 11 Aug 2020).

TO THE DEVELOPERS/MAINTAINERS OF THE brendaDb PACKAGE: Please make sure to use the following settings in order to reproduce any error or warning you see on this page.
Package 197/1885HostnameOS / ArchINSTALLBUILDCHECKBUILD BIN
brendaDb 1.3.0
Yi Zhou
Snapshot Date: 2020-08-10 14:50:56 -0400 (Mon, 10 Aug 2020)
URL: https://git.bioconductor.org/packages/brendaDb
Branch: master
Last Commit: b348776
Last Changed Date: 2020-04-27 15:29:29 -0400 (Mon, 27 Apr 2020)
malbec1 Linux (Ubuntu 18.04.4 LTS) / x86_64  OK [ OK ] OK UNNEEDED, same version exists in internal repository
nebbiolo1 Linux (Ubuntu 20.04.1 LTS) / x86_64  OK  OK  NA 
tokay1 Windows Server 2012 R2 Standard / x64  OK  OK  OK  OK UNNEEDED, same version exists in internal repository
merida1 macOS 10.14.6 Mojave / x86_64  OK  OK  OK  OK UNNEEDED, same version exists in internal repository

Summary

Package: brendaDb
Version: 1.3.0
Command: /home/biocbuild/bbs-3.12-bioc/R/bin/R CMD build --keep-empty-dirs --no-resave-data brendaDb
StartedAt: 2020-08-10 21:46:45 -0400 (Mon, 10 Aug 2020)
EndedAt: 2020-08-10 21:47:23 -0400 (Mon, 10 Aug 2020)
EllapsedTime: 37.8 seconds
RetCode: 0
Status:  OK 
PackageFile: brendaDb_1.3.0.tar.gz
PackageFileSize: 642.9 KiB

Command output

##############################################################################
##############################################################################
###
### Running command:
###
###   /home/biocbuild/bbs-3.12-bioc/R/bin/R CMD build --keep-empty-dirs --no-resave-data brendaDb
###
##############################################################################
##############################################################################


* checking for file ‘brendaDb/DESCRIPTION’ ... OK
* preparing ‘brendaDb’:
* checking DESCRIPTION meta-information ... OK
* cleaning src
* installing the package to build vignettes
* creating vignettes ... OK
* cleaning src
* checking for LF line-endings in source and make files and shell scripts
* checking for empty or unneeded directories
* looking to see if a ‘data/datalist’ file should be added
* building ‘brendaDb_1.3.0.tar.gz’