Back to Multiple platform build/check report for BioC 3.12
[A]BCDEFGHIJKLMNOPQRSTUVWXYZ

BUILD report for AnnotationFilter on tokay1

This page was generated on 2020-08-09 12:11:17 -0400 (Sun, 09 Aug 2020).

TO THE DEVELOPERS/MAINTAINERS OF THE AnnotationFilter PACKAGE: Please make sure to use the following settings in order to reproduce any error or warning you see on this page.
Package 59/1882HostnameOS / ArchINSTALLBUILDCHECKBUILD BIN
AnnotationFilter 1.13.0
Bioconductor Package Maintainer
Snapshot Date: 2020-08-08 14:51:01 -0400 (Sat, 08 Aug 2020)
URL: https://git.bioconductor.org/packages/AnnotationFilter
Branch: master
Last Commit: dd53a9e
Last Changed Date: 2020-04-27 15:06:41 -0400 (Mon, 27 Apr 2020)
malbec1 Linux (Ubuntu 18.04.4 LTS) / x86_64  OK  OK  OK UNNEEDED, same version exists in internal repository
nebbiolo1 Linux (Ubuntu 20.04.1 LTS) / x86_64  OK  OK  OK 
tokay1 Windows Server 2012 R2 Standard / x64  OK [ OK ] OK  OK UNNEEDED, same version exists in internal repository
merida1 macOS 10.14.6 Mojave / x86_64  OK  OK  OK  OK UNNEEDED, same version exists in internal repository

Summary

Package: AnnotationFilter
Version: 1.13.0
Command: chmod a+r AnnotationFilter -R && C:\Users\biocbuild\bbs-3.12-bioc\R\bin\R.exe CMD build --keep-empty-dirs --no-resave-data AnnotationFilter
StartedAt: 2020-08-08 21:31:25 -0400 (Sat, 08 Aug 2020)
EndedAt: 2020-08-08 21:32:00 -0400 (Sat, 08 Aug 2020)
EllapsedTime: 34.9 seconds
RetCode: 0
Status:  OK  
PackageFile: AnnotationFilter_1.13.0.tar.gz
PackageFileSize: 305 KiB

Command output

##############################################################################
##############################################################################
###
### Running command:
###
###   chmod a+r AnnotationFilter -R && C:\Users\biocbuild\bbs-3.12-bioc\R\bin\R.exe CMD build --keep-empty-dirs --no-resave-data AnnotationFilter
###
##############################################################################
##############################################################################


* checking for file 'AnnotationFilter/DESCRIPTION' ... OK
* preparing 'AnnotationFilter':
* checking DESCRIPTION meta-information ... OK
* installing the package to build vignettes
* creating vignettes ... OK
* checking for LF line-endings in source and make files and shell scripts
* checking for empty or unneeded directories
* building 'AnnotationFilter_1.13.0.tar.gz'